FILENAME: O4811320.SWS.47450.tif
QUADRANGLE_NAME: RISING SUN
QUADRANT: SW
WEST_LONGITUDE: -113 37 30.00000
EAST_LONGITUDE: -113 33 45.00000
NORTH_LATITUDE: 48 41 15.00000
SOUTH_LATITUDE: 48 37 30.00000
PRODUCTION_DATE: 1995 5 1
RASTER_ORDER: LEFT_RIGHT/TOP_BOTTOM
BAND_ORGANIZATION: SINGLE FILE
BAND_CONTENT: BLACK&WHITE
BAND_CONTENT: UNDEFINED
BAND_CONTENT: UNDEFINED
BITS_PER_PIXEL: 8
SAMPLES_AND_LINES: 5511 7707
HORIZONTAL_DATUM: NAD83
HORIZONTAL_COORDINATE_SYSTEM: UTM
COORDINATE_ZONE: 12
HORIZONTAL_UNITS: METERS
HORIZONTAL_RESOLUTION: 1.00000
SECONDARY_HORIZONTAL_DATUM: NAD27
XY_ORIGIN: 306201.00000 5396343.00000
SECONDARY_XY_ORIGIN: 306264.30000 5396124.53000
NATION: US
STATE: MT
NW_QUAD_CORNER_XY: 306811.20000 5396042.73000
NE_QUAD_CORNER_XY: 311410.53000 5395886.23000
SE_QUAD_CORNERY_XY: 311177.13000 5388939.70000
SW_QUAD_CORNER_XY: 306572.10000 5389096.24000
SECONDARY_NW_QUAD_XY: 306805.03000 5395823.84000
SECONDARY_NE_QUAD_XY: 311404.51000 5395667.34000
SECONDARY_SE_QUAD_XY: 311171.11000 5388720.82000
SECONDARY_SW_QUAD_XY: 306565.93000 5388877.36000
RMSE_XY: 6.40000
IMAGE_SOURCE: BLACK AND WHITE FILM
SOURCE_IMAGE_ID: NAPP 5615 33
SOURCE_IMAGE_DATE: 1991 8 26
SOURCE_IMAGE_ID: NAPP 5615 5615
SOURCE_IMAGE_DATE: 1991 8 26
SOURCE_IMAGE_ID: NAPP 5615 22
SOURCE_IMAGE_DATE: 1991 8 26
SOURCE_IMAGE_ID: NAPP 5615 5615
SOURCE_IMAGE_DATE: 1991 8 26
SOURCE_IMAGE_ID: NAPP 5615 44
SOURCE_IMAGE_DATE: 1991 8 26
SOURCE_DEM_DATE: 1995 5 1
AGENCY: WESTERN MAPPING CENTER (WMC)
PRODUCER: Science Applications International
PRODUCTION_SYSTEM: GIS/MAGIC
COMPRESSION: UNDEFINED
STANDARD_VERSION: 1996 12
METADATA_DATE: 1997 5 20
DATA_FILE_SIZE: 42478788
BYTE_COUNT: 5511
