FILENAME: O4811317.NES.47925.tif
QUADRANGLE_NAME: CAMAS RIDGE EAST
QUADRANT: NE
WEST_LONGITUDE: -113 56 15.00000
EAST_LONGITUDE: -113 52 30.00000
NORTH_LATITUDE: 48 45 0.00000
SOUTH_LATITUDE: 48 41 15.00000
PRODUCTION_DATE: 1995 5 3
RASTER_ORDER: LEFT_RIGHT/TOP_BOTTOM
BAND_ORGANIZATION: SINGLE FILE
BAND_CONTENT: BLACK&WHITE
BAND_CONTENT: UNDEFINED
BAND_CONTENT: UNDEFINED
BITS_PER_PIXEL: 8
SAMPLES_AND_LINES: 5535 7725
HORIZONTAL_DATUM: NAD83
HORIZONTAL_COORDINATE_SYSTEM: UTM
COORDINATE_ZONE: 12
HORIZONTAL_UNITS: METERS
HORIZONTAL_RESOLUTION: 1.00000
SECONDARY_HORIZONTAL_DATUM: NAD27
XY_ORIGIN: 283443.00000 5404129.00000
SECONDARY_XY_ORIGIN: 283506.54000 5403910.36000
NATION: US
STATE: MT
NW_QUAD_CORNER_XY: 284082.83000 5403828.17000
NE_QUAD_CORNER_XY: 288676.31000 5403652.84000
SE_QUAD_CORNERY_XY: 288414.15000 5396706.48000
SW_QUAD_CORNER_XY: 283814.97000 5396881.86000
SECONDARY_NW_QUAD_XY: 284075.93000 5403609.30000
SECONDARY_NE_QUAD_XY: 288669.55000 5403433.97000
SECONDARY_SE_QUAD_XY: 288407.40000 5396487.61000
SECONDARY_SW_QUAD_XY: 283808.07000 5396663.00000
RMSE_XY: 3.50000
IMAGE_SOURCE: BLACK AND WHITE FILM
SOURCE_IMAGE_ID: NAPP 5615 848
SOURCE_IMAGE_DATE: 1991 8 26
SOURCE_IMAGE_ID: NAPP 5615 5615
SOURCE_IMAGE_DATE: 1991 8 26
SOURCE_IMAGE_ID: NAPP 5615 747
SOURCE_IMAGE_DATE: 1991 8 26
SOURCE_DEM_DATE: 1995 5 3
AGENCY: WESTERN MAPPING CENTER (WMC)
PRODUCER: Science Applications International
PRODUCTION_SYSTEM: GIS/MAGIC
COMPRESSION: UNDEFINED
STANDARD_VERSION: 1996 12
METADATA_DATE: 1997 5 20
DATA_FILE_SIZE: 42763410
BYTE_COUNT: 5535
