FILENAME: O4811315.SES.46875.tif
QUADRANGLE_NAME: WETZEL
QUADRANT: SE
WEST_LONGITUDE: -113 11 15.00000
EAST_LONGITUDE: -113 7 30.00000
NORTH_LATITUDE: 48 48 45.00000
SOUTH_LATITUDE: 48 45 0.00000
PRODUCTION_DATE: 1994 11 18
RASTER_ORDER: LEFT_RIGHT/TOP_BOTTOM
BAND_ORGANIZATION: SINGLE FILE
BAND_CONTENT: BLACK&WHITE
BAND_CONTENT: UNDEFINED
BAND_CONTENT: UNDEFINED
BITS_PER_PIXEL: 8
SAMPLES_AND_LINES: 5459 7681
HORIZONTAL_DATUM: NAD83
HORIZONTAL_COORDINATE_SYSTEM: UTM
COORDINATE_ZONE: 12
HORIZONTAL_UNITS: METERS
HORIZONTAL_RESOLUTION: 1.00000
SECONDARY_HORIZONTAL_DATUM: NAD27
XY_ORIGIN: 338837.00000 5409221.00000
SECONDARY_XY_ORIGIN: 338900.24600 5409002.38200
NATION: US
STATE: MT
NW_QUAD_CORNER_XY: 339406.14300 5408920.25300
NE_QUAD_CORNER_XY: 343994.25700 5408790.24900
SE_QUAD_CORNERY_XY: 343800.36400 5401843.31000
SW_QUAD_CORNER_XY: 339206.54200 5401973.35100
SECONDARY_NW_QUAD_XY: 339401.00400 5408701.32400
SECONDARY_NE_QUAD_XY: 343989.26500 5408571.31600
SECONDARY_SE_QUAD_XY: 343795.37200 5401624.38100
SECONDARY_SW_QUAD_XY: 339201.40300 5401754.42700
RMSE_XY: 0.80000
IMAGE_SOURCE: BLACK AND WHITE FILM
SOURCE_IMAGE_ID: NAPP 2607 057
SOURCE_IMAGE_DATE: 1990 7 12
SOURCE_DEM_DATE: 1994 11 18
AGENCY: WESTERN MAPPING CENTER (WMC)
PRODUCER: Science Applications International
PRODUCTION_SYSTEM: GIS/MAGIC
COMPRESSION: UNDEFINED
STANDARD_VERSION: 1996 12
METADATA_DATE: 1997 7 4
DATA_FILE_SIZE: 41936038
BYTE_COUNT: 5459
