FILENAME: O4811314.SES.47074.tif
QUADRANGLE_NAME: DUCK LAKE
QUADRANT: SE
WEST_LONGITUDE: -113 18 45.00000
EAST_LONGITUDE: -113 15 0.00000
NORTH_LATITUDE: 48 48 45.00000
SOUTH_LATITUDE: 48 45 0.00000
PRODUCTION_DATE: 1994 11 18
RASTER_ORDER: LEFT_RIGHT/TOP_BOTTOM
BAND_ORGANIZATION: SINGLE FILE
BAND_CONTENT: BLACK&WHITE
BAND_CONTENT: UNDEFINED
BAND_CONTENT: UNDEFINED
BITS_PER_PIXEL: 8
SAMPLES_AND_LINES: 5471 7688
HORIZONTAL_DATUM: NAD83
HORIZONTAL_COORDINATE_SYSTEM: UTM
COORDINATE_ZONE: 12
HORIZONTAL_UNITS: METERS
HORIZONTAL_RESOLUTION: 1.00000
SECONDARY_HORIZONTAL_DATUM: NAD27
XY_ORIGIN: 329649.00000 5409492.00000
SECONDARY_XY_ORIGIN: 329712.09800 5409273.24700
NATION: US
STATE: MT
NW_QUAD_CORNER_XY: 330229.99000 5409191.57500
NE_QUAD_CORNER_XY: 334818.05300 5409054.02800
SE_QUAD_CORNERY_XY: 334612.74500 5402107.16500
SW_QUAD_CORNER_XY: 330018.97400 5402244.75100
SECONDARY_NW_QUAD_XY: 330224.55800 5408972.65500
SECONDARY_NE_QUAD_XY: 334812.76800 5408835.10400
SECONDARY_SE_QUAD_XY: 334607.46000 5401888.24500
SECONDARY_SW_QUAD_XY: 330013.54200 5402025.83600
RMSE_XY: 1.60000
IMAGE_SOURCE: BLACK AND WHITE FILM
SOURCE_IMAGE_ID: NAPP 2614 014
SOURCE_IMAGE_DATE: 1990 9 3
SOURCE_DEM_DATE: 1994 11 18
AGENCY: WESTERN MAPPING CENTER (WMC)
PRODUCER: Science Applications International
PRODUCTION_SYSTEM: GIS/MAGIC
COMPRESSION: UNDEFINED
STANDARD_VERSION: 1996 12
METADATA_DATE: 1997 7 4
DATA_FILE_SIZE: 42066519
BYTE_COUNT: 5471
