FILENAME: O4811312.NES.47443.tif
QUADRANGLE_NAME: LAKE SHERBURNE
QUADRANT: NE
WEST_LONGITUDE: -113 33 45.00000
EAST_LONGITUDE: -113 30 0.00000
NORTH_LATITUDE: 48 52 30.00000
SOUTH_LATITUDE: 48 48 45.00000
PRODUCTION_DATE: 1994 11 18
RASTER_ORDER: LEFT_RIGHT/TOP_BOTTOM
BAND_ORGANIZATION: SINGLE FILE
BAND_CONTENT: BLACK&WHITE
BAND_CONTENT: UNDEFINED
BAND_CONTENT: UNDEFINED
BITS_PER_PIXEL: 8
SAMPLES_AND_LINES: 5488 7703
HORIZONTAL_DATUM: NAD83
HORIZONTAL_COORDINATE_SYSTEM: UTM
COORDINATE_ZONE: 12
HORIZONTAL_UNITS: METERS
HORIZONTAL_RESOLUTION: 1.00000
SECONDARY_HORIZONTAL_DATUM: NAD27
XY_ORIGIN: 311508.00000 5417027.00000
SECONDARY_XY_ORIGIN: 311570.42300 5416807.60800
NATION: US
STATE: MT
NW_QUAD_CORNER_XY: 312112.08900 5416726.19700
NE_QUAD_CORNER_XY: 316694.32600 5416573.60600
SE_QUAD_CORNERY_XY: 316465.96400 5409626.84700
SW_QUAD_CORNER_XY: 311878.01200 5409779.48200
SECONDARY_NW_QUAD_XY: 312106.06900 5416507.29300
SECONDARY_NE_QUAD_XY: 316688.45300 5416354.69700
SECONDARY_SE_QUAD_XY: 316460.09100 5409407.94100
SECONDARY_SW_QUAD_XY: 311871.99200 5409560.58100
RMSE_XY: 3.30000
IMAGE_SOURCE: BLACK AND WHITE FILM
SOURCE_IMAGE_ID: PAPP 5615 414
SOURCE_IMAGE_DATE: 1991 8 26
SOURCE_DEM_DATE: 1994 11 18
AGENCY: WESTERN MAPPING CENTER (WMC)
PRODUCER: Science Applications International
PRODUCTION_SYSTEM: GIS/MAGIC
COMPRESSION: UNDEFINED
STANDARD_VERSION: 1996 12
METADATA_DATE: 1997 5 19
DATA_FILE_SIZE: 42279552
BYTE_COUNT: 5488
