FILENAME: O4811312.NWS.47444.tif
QUADRANGLE_NAME: LAKE SHERBURNE
QUADRANT: NW
WEST_LONGITUDE: -113 37 30.00000
EAST_LONGITUDE: -113 33 45.00000
NORTH_LATITUDE: 48 52 30.00000
SOUTH_LATITUDE: 48 48 45.00000
PRODUCTION_DATE: 1994 11 18
RASTER_ORDER: LEFT_RIGHT/TOP_BOTTOM
BAND_ORGANIZATION: SINGLE FILE
BAND_CONTENT: BLACK&WHITE
BAND_CONTENT: UNDEFINED
BAND_CONTENT: UNDEFINED
BITS_PER_PIXEL: 8
SAMPLES_AND_LINES: 5495 7706
HORIZONTAL_DATUM: NAD83
HORIZONTAL_COORDINATE_SYSTEM: UTM
COORDINATE_ZONE: 12
HORIZONTAL_UNITS: METERS
HORIZONTAL_RESOLUTION: 1.00000
SECONDARY_HORIZONTAL_DATUM: NAD27
XY_ORIGIN: 306919.00000 5417183.00000
SECONDARY_XY_ORIGIN: 306981.65300 5416963.68700
NATION: US
STATE: MT
NW_QUAD_CORNER_XY: 307529.88300 5416882.56000
NE_QUAD_CORNER_XY: 312112.08900 5416726.19700
SE_QUAD_CORNERY_XY: 311878.01200 5409779.48200
SW_QUAD_CORNER_XY: 307290.09000 5409935.89100
SECONDARY_NW_QUAD_XY: 307523.71600 5416663.66000
SECONDARY_NE_QUAD_XY: 312106.06900 5416507.29300
SECONDARY_SE_QUAD_XY: 311871.99200 5409560.58100
SECONDARY_SW_QUAD_XY: 307283.92300 5409716.99500
RMSE_XY: 5.70000
IMAGE_SOURCE: BLACK AND WHITE FILM
SOURCE_IMAGE_ID: PAPP 5615 949
SOURCE_IMAGE_DATE: 1991 8 26
SOURCE_DEM_DATE: 1994 11 18
AGENCY: WESTERN MAPPING CENTER (WMC)
PRODUCER: Science Applications International
PRODUCTION_SYSTEM: GIS/MAGIC
COMPRESSION: UNDEFINED
STANDARD_VERSION: 1996 12
METADATA_DATE: 1997 5 19
DATA_FILE_SIZE: 42349965
BYTE_COUNT: 5495
