FILENAME: O4811312.SWS.47446.tif
QUADRANGLE_NAME: LAKE SHERBURNE
QUADRANT: SW
WEST_LONGITUDE: -113 37 30.00000
EAST_LONGITUDE: -113 33 45.00000
NORTH_LATITUDE: 48 48 45.00000
SOUTH_LATITUDE: 48 45 0.00000
PRODUCTION_DATE: 1995 5 3
RASTER_ORDER: LEFT_RIGHT/TOP_BOTTOM
BAND_ORGANIZATION: SINGLE FILE
BAND_CONTENT: BLACK&WHITE
BAND_CONTENT: UNDEFINED
BAND_CONTENT: UNDEFINED
BITS_PER_PIXEL: 8
SAMPLES_AND_LINES: 5500 7707
HORIZONTAL_DATUM: NAD83
HORIZONTAL_COORDINATE_SYSTEM: UTM
COORDINATE_ZONE: 12
HORIZONTAL_UNITS: METERS
HORIZONTAL_RESOLUTION: 1.00000
SECONDARY_HORIZONTAL_DATUM: NAD27
XY_ORIGIN: 306680.00000 5410237.00000
SECONDARY_XY_ORIGIN: 306742.94000 5410017.97000
NATION: US
STATE: MT
NW_QUAD_CORNER_XY: 307290.09000 5409935.89000
NE_QUAD_CORNER_XY: 311878.01000 5409779.48000
SE_QUAD_CORNERY_XY: 311644.16000 5402832.83000
SW_QUAD_CORNER_XY: 307050.53000 5402989.28000
SECONDARY_NW_QUAD_XY: 307283.92000 5409716.99000
SECONDARY_NE_QUAD_XY: 311871.99000 5409560.58000
SECONDARY_SE_QUAD_XY: 311638.14000 5402613.93000
SECONDARY_SW_QUAD_XY: 307044.36000 5402770.39000
RMSE_XY: 3.40000
IMAGE_SOURCE: BLACK AND WHITE FILM
SOURCE_IMAGE_ID: NAPP 5615 77
SOURCE_IMAGE_DATE: 1991 8 26
SOURCE_IMAGE_ID: NAPP 5615 5615
SOURCE_IMAGE_DATE: 1991 8 26
SOURCE_IMAGE_ID: NAPP 5615 66
SOURCE_IMAGE_DATE: 1991 8 26
SOURCE_DEM_DATE: 1995 5 3
AGENCY: WESTERN MAPPING CENTER (WMC)
PRODUCER: Science Applications International
PRODUCTION_SYSTEM: GIS/MAGIC
COMPRESSION: UNDEFINED
STANDARD_VERSION: 1996 12
METADATA_DATE: 1997 5 20
DATA_FILE_SIZE: 42394000
BYTE_COUNT: 5500
