FILENAME: O4811311.SWS.47626.tif
QUADRANGLE_NAME: MANY GLACIER
QUADRANT: SW
WEST_LONGITUDE: -113 45 0.00000
EAST_LONGITUDE: -113 41 15.00000
NORTH_LATITUDE: 48 48 45.00000
SOUTH_LATITUDE: 48 45 0.00000
PRODUCTION_DATE: 1995 5 4
RASTER_ORDER: LEFT_RIGHT/TOP_BOTTOM
BAND_ORGANIZATION: SINGLE FILE
BAND_CONTENT: BLACK&WHITE
BAND_CONTENT: UNDEFINED
BAND_CONTENT: UNDEFINED
BITS_PER_PIXEL: 8
SAMPLES_AND_LINES: 5512 7714
HORIZONTAL_DATUM: NAD83
HORIZONTAL_COORDINATE_SYSTEM: UTM
COORDINATE_ZONE: 12
HORIZONTAL_UNITS: METERS
HORIZONTAL_RESOLUTION: 1.00000
SECONDARY_HORIZONTAL_DATUM: NAD27
XY_ORIGIN: 297492.00000 5410561.00000
SECONDARY_XY_ORIGIN: 297555.31000 5410342.04000
NATION: US
STATE: MT
NW_QUAD_CORNER_XY: 298114.34000 5410260.03000
NE_QUAD_CORNER_XY: 302702.20000 5410096.07000
SE_QUAD_CORNERY_XY: 302456.93000 5403149.51000
SW_QUAD_CORNER_XY: 297863.35000 5403313.51000
SECONDARY_NW_QUAD_XY: 298107.88000 5410041.14000
SECONDARY_NE_QUAD_XY: 302695.88000 5409877.18000
SECONDARY_SE_QUAD_XY: 302450.61000 5402930.62000
SECONDARY_SW_QUAD_XY: 297856.89000 5403094.63000
RMSE_XY: 3.40000
IMAGE_SOURCE: BLACK AND WHITE FILM
SOURCE_IMAGE_ID: NAPP 5615 88
SOURCE_IMAGE_DATE: 1991 8 26
SOURCE_IMAGE_ID: NAPP 5615 5615
SOURCE_IMAGE_DATE: 1991 8 26
SOURCE_IMAGE_ID: NAPP 5615 77
SOURCE_IMAGE_DATE: 1991 8 26
SOURCE_IMAGE_ID: NAPP 5615 5615
SOURCE_IMAGE_DATE: 1991 8 26
SOURCE_IMAGE_ID: NAPP 5615 99
SOURCE_IMAGE_DATE: 1991 8 26
SOURCE_DEM_DATE: 1995 5 4
AGENCY: WESTERN MAPPING CENTER (WMC)
PRODUCER: Science Applications International
PRODUCTION_SYSTEM: GIS/MAGIC
COMPRESSION: UNDEFINED
STANDARD_VERSION: 1996 12
METADATA_DATE: 1997 5 20
DATA_FILE_SIZE: 42525080
BYTE_COUNT: 5512
