FILENAME: O4811310.SWS.47785.tif
QUADRANGLE_NAME: AHERN PASS
QUADRANT: SW
WEST_LONGITUDE: -113 52 30.00000
EAST_LONGITUDE: -113 48 45.00000
NORTH_LATITUDE: 48 48 45.00000
SOUTH_LATITUDE: 48 45 0.00000
PRODUCTION_DATE: 1994 11 4
RASTER_ORDER: LEFT_RIGHT/TOP_BOTTOM
BAND_ORGANIZATION: SINGLE FILE
BAND_CONTENT: BLACK&WHITE
BAND_CONTENT: UNDEFINED
BAND_CONTENT: UNDEFINED
BITS_PER_PIXEL: 8
SAMPLES_AND_LINES: 5523 7721
HORIZONTAL_DATUM: NAD83
HORIZONTAL_COORDINATE_SYSTEM: UTM
COORDINATE_ZONE: 12
HORIZONTAL_UNITS: METERS
HORIZONTAL_RESOLUTION: 1.00000
SECONDARY_HORIZONTAL_DATUM: NAD27
XY_ORIGIN: 288305.00000 5410900.00000
SECONDARY_XY_ORIGIN: 288368.38600 5410681.14600
NATION: US
STATE: MT
NW_QUAD_CORNER_XY: 288938.71300 5410599.25900
NE_QUAD_CORNER_XY: 293526.50900 5410427.75600
SE_QUAD_CORNERY_XY: 293269.81400 5403481.28900
SW_QUAD_CORNER_XY: 288676.30600 5403652.84100
SECONDARY_NW_QUAD_XY: 288931.95800 5410380.38400
SECONDARY_NE_QUAD_XY: 293519.90100 5410208.87600
SECONDARY_SE_QUAD_XY: 293263.20700 5403262.41300
SECONDARY_SW_QUAD_XY: 288669.55200 5403433.97100
RMSE_XY: 9.40000
IMAGE_SOURCE: BLACK AND WHITE FILM
SOURCE_IMAGE_ID: PAPP 5615 828
SOURCE_IMAGE_DATE: 1991 8 26
SOURCE_DEM_DATE: 1994 11 4
AGENCY: WESTERN MAPPING CENTER (WMC)
PRODUCER: Science Applications International
PRODUCTION_SYSTEM: GIS/MAGIC
COMPRESSION: UNDEFINED
STANDARD_VERSION: 1996 12
METADATA_DATE: 1997 5 19
DATA_FILE_SIZE: 42648606
BYTE_COUNT: 5523
