FILENAME: O4811309.NES.47921.tif
QUADRANGLE_NAME: MOUNT GEDUHN
QUADRANT: NE
WEST_LONGITUDE: -113 56 15.00000
EAST_LONGITUDE: -113 52 30.00000
NORTH_LATITUDE: 48 52 30.00000
SOUTH_LATITUDE: 48 48 45.00000
PRODUCTION_DATE: 1995 5 1
RASTER_ORDER: LEFT_RIGHT/TOP_BOTTOM
BAND_ORGANIZATION: SINGLE FILE
BAND_CONTENT: BLACK&WHITE
BAND_CONTENT: UNDEFINED
BAND_CONTENT: UNDEFINED
BITS_PER_PIXEL: 8
SAMPLES_AND_LINES: 5524 7725
HORIZONTAL_DATUM: NAD83
HORIZONTAL_COORDINATE_SYSTEM: UTM
COORDINATE_ZONE: 12
HORIZONTAL_UNITS: METERS
HORIZONTAL_RESOLUTION: 1.00000
SECONDARY_HORIZONTAL_DATUM: NAD27
XY_ORIGIN: 283979.00000 5418022.00000
SECONDARY_XY_ORIGIN: 284042.34000 5417803.02000
NATION: US
STATE: MT
NW_QUAD_CORNER_XY: 284619.33000 5417720.96000
NE_QUAD_CORNER_XY: 289201.37000 5417545.73000
SE_QUAD_CORNERY_XY: 288938.71000 5410599.26000
SW_QUAD_CORNER_XY: 284350.95000 5410774.54000
SECONDARY_NW_QUAD_XY: 284612.43000 5417502.09000
SECONDARY_NE_QUAD_XY: 289194.62000 5417326.86000
SECONDARY_SE_QUAD_XY: 288931.96000 5410380.38000
SECONDARY_SW_QUAD_XY: 284344.05000 5410555.67000
RMSE_XY: 3.40000
IMAGE_SOURCE: BLACK AND WHITE FILM
SOURCE_IMAGE_ID: NAPP 5615 444
SOURCE_IMAGE_DATE: 1991 8 26
SOURCE_IMAGE_ID: NAPP 5615 545
SOURCE_IMAGE_DATE: 1991 8 26
SOURCE_IMAGE_ID: NAPP 5615 343
SOURCE_IMAGE_DATE: 1991 8 26
SOURCE_DEM_DATE: 1995 5 1
AGENCY: WESTERN MAPPING CENTER (WMC)
PRODUCER: Science Applications International
PRODUCTION_SYSTEM: GIS/MAGIC
COMPRESSION: UNDEFINED
STANDARD_VERSION: 1996 12
METADATA_DATE: 1997 5 20
DATA_FILE_SIZE: 42678424
BYTE_COUNT: 5524
