FILENAME: O4811309.SES.47923.tif
QUADRANGLE_NAME: MOUNT GEDUHN
QUADRANT: SE
WEST_LONGITUDE: -113 56 15.00000
EAST_LONGITUDE: -113 52 30.00000
NORTH_LATITUDE: 48 48 45.00000
SOUTH_LATITUDE: 48 45 0.00000
PRODUCTION_DATE: 1994 11 4
RASTER_ORDER: LEFT_RIGHT/TOP_BOTTOM
BAND_ORGANIZATION: SINGLE FILE
BAND_CONTENT: BLACK&WHITE
BAND_CONTENT: UNDEFINED
BAND_CONTENT: UNDEFINED
BITS_PER_PIXEL: 8
SAMPLES_AND_LINES: 5529 7725
HORIZONTAL_DATUM: NAD83
HORIZONTAL_COORDINATE_SYSTEM: UTM
COORDINATE_ZONE: 12
HORIZONTAL_UNITS: METERS
HORIZONTAL_RESOLUTION: 1.00000
SECONDARY_HORIZONTAL_DATUM: NAD27
XY_ORIGIN: 283711.00000 5411075.00000
SECONDARY_XY_ORIGIN: 283774.43200 5410856.19300
NATION: US
STATE: MT
NW_QUAD_CORNER_XY: 284350.95000 5410774.53600
NE_QUAD_CORNER_XY: 288938.71300 5410599.25900
SE_QUAD_CORNERY_XY: 288676.30600 5403652.84100
SW_QUAD_CORNER_XY: 284082.83000 5403828.16900
SECONDARY_NW_QUAD_XY: 284344.04900 5410555.66700
SECONDARY_NE_QUAD_XY: 288931.95800 5410380.38400
SECONDARY_SE_QUAD_XY: 288669.55200 5403433.97100
SECONDARY_SW_QUAD_XY: 284075.93000 5403609.30400
RMSE_XY: 5.30000
IMAGE_SOURCE: BLACK AND WHITE FILM
SOURCE_IMAGE_ID: PAPP 5615 646
SOURCE_IMAGE_DATE: 1991 8 26
SOURCE_DEM_DATE: 1994 11 4
AGENCY: WESTERN MAPPING CENTER (WMC)
PRODUCER: Science Applications International
PRODUCTION_SYSTEM: GIS/MAGIC
COMPRESSION: UNDEFINED
STANDARD_VERSION: 1996 12
METADATA_DATE: 1997 5 19
DATA_FILE_SIZE: 42717054
BYTE_COUNT: 5529
