FILENAME: O4811309.SWS.47924.tif
QUADRANGLE_NAME: MOUNT GEDUHN
QUADRANT: SW
WEST_LONGITUDE: -114 0 0.00000
EAST_LONGITUDE: -113 56 15.00000
NORTH_LATITUDE: 48 48 45.00000
SOUTH_LATITUDE: 48 45 0.00000
PRODUCTION_DATE: 1995 5 1
RASTER_ORDER: LEFT_RIGHT/TOP_BOTTOM
BAND_ORGANIZATION: SINGLE FILE
BAND_CONTENT: BLACK&WHITE
BAND_CONTENT: UNDEFINED
BAND_CONTENT: UNDEFINED
BITS_PER_PIXEL: 8
SAMPLES_AND_LINES: 5535 7729
HORIZONTAL_DATUM: NAD83
HORIZONTAL_COORDINATE_SYSTEM: UTM
COORDINATE_ZONE: 12
HORIZONTAL_UNITS: METERS
HORIZONTAL_RESOLUTION: 1.00000
SECONDARY_HORIZONTAL_DATUM: NAD27
XY_ORIGIN: 279117.00000 5411254.00000
SECONDARY_XY_ORIGIN: 279180.48000 5411035.24000
NATION: US
STATE: MT
NW_QUAD_CORNER_XY: 279763.22000 5410953.59000
NE_QUAD_CORNER_XY: 284350.95000 5410774.54000
SE_QUAD_CORNERY_XY: 284082.83000 5403828.17000
SW_QUAD_CORNER_XY: 279489.39000 5404007.27000
SECONDARY_NW_QUAD_XY: 279756.17000 5410734.72000
SECONDARY_NE_QUAD_XY: 284344.05000 5410555.67000
SECONDARY_SE_QUAD_XY: 284075.93000 5403609.30000
SECONDARY_SW_QUAD_XY: 279482.34000 5403788.41000
RMSE_XY: 4.70000
IMAGE_SOURCE: BLACK AND WHITE FILM
SOURCE_IMAGE_ID: NAPP 5615 858
SOURCE_IMAGE_DATE: 1991 8 26
SOURCE_IMAGE_ID: NAPP 5615 5615
SOURCE_IMAGE_DATE: 1991 8 26
SOURCE_IMAGE_ID: NAPP 5615 757
SOURCE_IMAGE_DATE: 1991 8 26
SOURCE_DEM_DATE: 1995 5 1
AGENCY: WESTERN MAPPING CENTER (WMC)
PRODUCER: Science Applications International
PRODUCTION_SYSTEM: GIS/MAGIC
COMPRESSION: UNDEFINED
STANDARD_VERSION: 1996 12
METADATA_DATE: 1997 5 20
DATA_FILE_SIZE: 42785550
BYTE_COUNT: 5535
