FILENAME: O4811308.NWS.46699.tif
QUADRANGLE_NAME: EMIGRANT GAP
QUADRANT: NW
WEST_LONGITUDE: -113 7 30.00000
EAST_LONGITUDE: -113 3 45.00000
NORTH_LATITUDE: 49 0 0.00000
SOUTH_LATITUDE: 48 56 15.00000
PRODUCTION_DATE: 1994 12 12
RASTER_ORDER: LEFT_RIGHT/TOP_BOTTOM
BAND_ORGANIZATION: SINGLE FILE
BAND_CONTENT: BLACK&WHITE
BAND_CONTENT: UNDEFINED
BAND_CONTENT: UNDEFINED
BITS_PER_PIXEL: 8
SAMPLES_AND_LINES: 5437 7676
HORIZONTAL_DATUM: NAD83
HORIZONTAL_COORDINATE_SYSTEM: UTM
COORDINATE_ZONE: 12
HORIZONTAL_UNITS: METERS
HORIZONTAL_RESOLUTION: 1.00000
SECONDARY_HORIZONTAL_DATUM: NAD27
XY_ORIGIN: 344013.00000 5429932.00000
SECONDARY_XY_ORIGIN: 344075.84100 5429712.65000
NATION: US
NATION: CA
STATE: MT
NW_QUAD_CORNER_XY: 344577.05800 5429631.45800
NE_QUAD_CORNER_XY: 349148.04300 5429505.33700
SE_QUAD_CORNERY_XY: 348959.31300 5422558.16400
SW_QUAD_CORNER_XY: 344382.60400 5422684.32300
SECONDARY_NW_QUAD_XY: 344572.06500 5429412.51700
SECONDARY_NE_QUAD_XY: 349143.19800 5429286.39200
SECONDARY_SE_QUAD_XY: 348954.46800 5422339.22100
SECONDARY_SW_QUAD_XY: 344377.61200 5422465.38400
RMSE_XY: 0.70000
IMAGE_SOURCE: BLACK AND WHITE FILM
SOURCE_IMAGE_ID: NAPP 2607 046
SOURCE_IMAGE_DATE: 1990 7 12
SOURCE_DEM_DATE: 1994 12 12
AGENCY: WESTERN MAPPING CENTER (WMC)
PRODUCER: Science Applications International
PRODUCTION_SYSTEM: GIS/MAGIC
COMPRESSION: UNDEFINED
STANDARD_VERSION: 1996 12
METADATA_DATE: 1997 7 4
DATA_FILE_SIZE: 41739849
BYTE_COUNT: 5437
