FILENAME: O4811308.SES.46700.tif
QUADRANGLE_NAME: EMIGRANT GAP
QUADRANT: SE
WEST_LONGITUDE: -113 3 45.00000
EAST_LONGITUDE: -113 0 0.00000
NORTH_LATITUDE: 48 56 15.00000
SOUTH_LATITUDE: 48 52 30.00000
PRODUCTION_DATE: 1994 12 12
RASTER_ORDER: LEFT_RIGHT/TOP_BOTTOM
BAND_ORGANIZATION: SINGLE FILE
BAND_CONTENT: BLACK&WHITE
BAND_CONTENT: UNDEFINED
BAND_CONTENT: UNDEFINED
BITS_PER_PIXEL: 8
SAMPLES_AND_LINES: 5437 7673
HORIZONTAL_DATUM: NAD83
HORIZONTAL_COORDINATE_SYSTEM: UTM
COORDINATE_ZONE: 12
HORIZONTAL_UNITS: METERS
HORIZONTAL_RESOLUTION: 1.00000
SECONDARY_HORIZONTAL_DATUM: NAD27
XY_ORIGIN: 348401.00000 5422859.00000
SECONDARY_XY_ORIGIN: 348463.96000 5422639.92800
NATION: US
STATE: MT
NW_QUAD_CORNER_XY: 348959.31300 5422558.16400
NE_QUAD_CORNER_XY: 353536.04600 5422435.77400
SE_QUAD_CORNERY_XY: 353353.21500 5415488.63000
SW_QUAD_CORNER_XY: 348770.76400 5415611.05700
SECONDARY_NW_QUAD_XY: 348954.46800 5422339.22100
SECONDARY_NE_QUAD_XY: 353531.34800 5422216.82700
SECONDARY_SE_QUAD_XY: 353348.51600 5415269.68600
SECONDARY_SW_QUAD_XY: 348765.91900 5415392.11700
RMSE_XY: 0.60000
IMAGE_SOURCE: BLACK AND WHITE FILM
SOURCE_IMAGE_ID: NAPP 2607 005
SOURCE_IMAGE_DATE: 1990 7 12
SOURCE_DEM_DATE: 1994 12 12
AGENCY: WESTERN MAPPING CENTER (WMC)
PRODUCER: Science Applications International
PRODUCTION_SYSTEM: GIS/MAGIC
COMPRESSION: UNDEFINED
STANDARD_VERSION: 1996 12
METADATA_DATE: 1997 7 4
DATA_FILE_SIZE: 41723538
BYTE_COUNT: 5437
