FILENAME: O4811307.NWS.46870.tif
QUADRANGLE_NAME: HALL COULEE
QUADRANT: NW
WEST_LONGITUDE: -113 15 0.00000
EAST_LONGITUDE: -113 11 15.00000
NORTH_LATITUDE: 49 0 0.00000
SOUTH_LATITUDE: 48 56 15.00000
PRODUCTION_DATE: 1994 11 18
RASTER_ORDER: LEFT_RIGHT/TOP_BOTTOM
BAND_ORGANIZATION: SINGLE FILE
BAND_CONTENT: BLACK&WHITE
BAND_CONTENT: UNDEFINED
BAND_CONTENT: UNDEFINED
BITS_PER_PIXEL: 8
SAMPLES_AND_LINES: 5448 7684
HORIZONTAL_DATUM: NAD83
HORIZONTAL_COORDINATE_SYSTEM: UTM
COORDINATE_ZONE: 12
HORIZONTAL_UNITS: METERS
HORIZONTAL_RESOLUTION: 1.00000
SECONDARY_HORIZONTAL_DATUM: NAD27
XY_ORIGIN: 334860.00000 5430196.00000
SECONDARY_XY_ORIGIN: 334922.79300 5429976.56700
NATION: US
NATION: CA
STATE: MT
NW_QUAD_CORNER_XY: 335435.16400 5429895.00200
NE_QUAD_CORNER_XY: 340006.09800 5429761.34600
SE_QUAD_CORNERY_XY: 339805.92000 5422814.25000
SW_QUAD_CORNER_XY: 335229.26300 5422947.94600
SECONDARY_NW_QUAD_XY: 335429.87800 5429676.07000
SECONDARY_NE_QUAD_XY: 340000.95900 5429542.40900
SECONDARY_SE_QUAD_XY: 339800.78200 5422595.31600
SECONDARY_SW_QUAD_XY: 335223.97700 5422729.01600
RMSE_XY: 0.90000
IMAGE_SOURCE: BLACK AND WHITE FILM
SOURCE_IMAGE_ID: NAPP 2607 090
SOURCE_IMAGE_DATE: 1990 7 12
SOURCE_DEM_DATE: 1994 11 18
AGENCY: WESTERN MAPPING CENTER (WMC)
PRODUCER: Science Applications International
PRODUCTION_SYSTEM: GIS/MAGIC
COMPRESSION: UNDEFINED
STANDARD_VERSION: 1996 12
METADATA_DATE: 1997 7 4
DATA_FILE_SIZE: 41867880
BYTE_COUNT: 5448
