FILENAME: O4811305.NES.47258.tif
QUADRANGLE_NAME: PIKE LAKE
QUADRANT: NE
WEST_LONGITUDE: -113 26 15.00000
EAST_LONGITUDE: -113 22 30.00000
NORTH_LATITUDE: 49 0 0.00000
SOUTH_LATITUDE: 48 56 15.00000
PRODUCTION_DATE: 1994 11 18
RASTER_ORDER: LEFT_RIGHT/TOP_BOTTOM
BAND_ORGANIZATION: SINGLE FILE
BAND_CONTENT: BLACK&WHITE
BAND_CONTENT: UNDEFINED
BAND_CONTENT: UNDEFINED
BITS_PER_PIXEL: 8
SAMPLES_AND_LINES: 5465 7696
HORIZONTAL_DATUM: NAD83
HORIZONTAL_COORDINATE_SYSTEM: UTM
COORDINATE_ZONE: 12
HORIZONTAL_UNITS: METERS
HORIZONTAL_RESOLUTION: 1.00000
SECONDARY_HORIZONTAL_DATUM: NAD27
XY_ORIGIN: 321130.00000 5430620.00000
SECONDARY_XY_ORIGIN: 321191.74300 5430399.97500
NATION: US
NATION: CA
STATE: MT
NW_QUAD_CORNER_XY: 321722.52900 5430318.57900
NE_QUAD_CORNER_XY: 326293.37900 5430173.61800
SE_QUAD_CORNERY_XY: 326076.02900 5423226.64700
SW_QUAD_CORNER_XY: 321499.45400 5423371.65200
SECONDARY_NW_QUAD_XY: 321716.80300 5430099.66100
SECONDARY_NE_QUAD_XY: 326287.79900 5429954.69500
SECONDARY_SE_QUAD_XY: 326070.44900 5423007.72600
SECONDARY_SW_QUAD_XY: 321493.72700 5423152.73600
RMSE_XY: 2.30000
IMAGE_SOURCE: BLACK AND WHITE FILM
SOURCE_IMAGE_ID: PAPP 7617 222
SOURCE_IMAGE_DATE: 1990 9 7
SOURCE_DEM_DATE: 1994 11 18
AGENCY: WESTERN MAPPING CENTER (WMC)
PRODUCER: Science Applications International
PRODUCTION_SYSTEM: GIS/MAGIC
COMPRESSION: UNDEFINED
STANDARD_VERSION: 1996 12
METADATA_DATE: 1997 5 19
DATA_FILE_SIZE: 42064105
BYTE_COUNT: 5465
