FILENAME: O4811304.NES.47439.tif
QUADRANGLE_NAME: CHIEF MOUNTAIN
QUADRANT: NE
WEST_LONGITUDE: -113 33 45.00000
EAST_LONGITUDE: -113 30 0.00000
NORTH_LATITUDE: 49 0 0.00000
SOUTH_LATITUDE: 48 56 15.00000
PRODUCTION_DATE: 1994 11 18
RASTER_ORDER: LEFT_RIGHT/TOP_BOTTOM
BAND_ORGANIZATION: SINGLE FILE
BAND_CONTENT: BLACK&WHITE
BAND_CONTENT: UNDEFINED
BAND_CONTENT: UNDEFINED
BITS_PER_PIXEL: 8
SAMPLES_AND_LINES: 5476 7703
HORIZONTAL_DATUM: NAD83
HORIZONTAL_COORDINATE_SYSTEM: UTM
COORDINATE_ZONE: 12
HORIZONTAL_UNITS: METERS
HORIZONTAL_RESOLUTION: 1.00000
SECONDARY_HORIZONTAL_DATUM: NAD27
XY_ORIGIN: 311977.00000 5430921.00000
SECONDARY_XY_ORIGIN: 312038.76600 5430700.96600
NATION: US
NATION: CA
STATE: MT
NW_QUAD_CORNER_XY: 312580.91900 5430619.80800
NE_QUAD_CORNER_XY: 317151.70900 5430467.30900
SE_QUAD_CORNERY_XY: 316922.90800 5423520.42700
SW_QUAD_CORNER_XY: 312346.39200 5423672.97200
SECONDARY_NW_QUAD_XY: 312574.89800 5430400.90000
SECONDARY_NE_QUAD_XY: 317145.83500 5430248.39600
SECONDARY_SE_QUAD_XY: 316917.03500 5423301.51500
SECONDARY_SW_QUAD_XY: 312340.37100 5423454.06600
RMSE_XY: 4.10000
IMAGE_SOURCE: BLACK AND WHITE FILM
SOURCE_IMAGE_ID: PAPP 7617 414
SOURCE_IMAGE_DATE: 1990 9 7
SOURCE_DEM_DATE: 1994 11 18
AGENCY: WESTERN MAPPING CENTER (WMC)
PRODUCER: Science Applications International
PRODUCTION_SYSTEM: GIS/MAGIC
COMPRESSION: UNDEFINED
STANDARD_VERSION: 1996 12
METADATA_DATE: 1997 5 19
DATA_FILE_SIZE: 42187104
BYTE_COUNT: 5476
