FILENAME: O4811304.SWS.47442.tif
QUADRANGLE_NAME: CHIEF MOUNTAIN
QUADRANT: SW
WEST_LONGITUDE: -113 37 30.00000
EAST_LONGITUDE: -113 33 45.00000
NORTH_LATITUDE: 48 56 15.00000
SOUTH_LATITUDE: 48 52 30.00000
PRODUCTION_DATE: 1995 5 3
RASTER_ORDER: LEFT_RIGHT/TOP_BOTTOM
BAND_ORGANIZATION: SINGLE FILE
BAND_CONTENT: BLACK&WHITE
BAND_CONTENT: UNDEFINED
BAND_CONTENT: UNDEFINED
BITS_PER_PIXEL: 8
SAMPLES_AND_LINES: 5488 7706
HORIZONTAL_DATUM: NAD83
HORIZONTAL_COORDINATE_SYSTEM: UTM
COORDINATE_ZONE: 12
HORIZONTAL_UNITS: METERS
HORIZONTAL_RESOLUTION: 1.00000
SECONDARY_HORIZONTAL_DATUM: NAD27
XY_ORIGIN: 307160.00000 5424130.00000
SECONDARY_XY_ORIGIN: 307222.37000 5423910.41000
NATION: US
STATE: MT
NW_QUAD_CORNER_XY: 307769.91000 5423829.29000
NE_QUAD_CORNER_XY: 312346.39000 5423672.97000
SE_QUAD_CORNERY_XY: 312112.09000 5416726.20000
SW_QUAD_CORNER_XY: 307529.88000 5416882.56000
SECONDARY_NW_QUAD_XY: 307763.74000 5423610.39000
SECONDARY_NE_QUAD_XY: 312340.37000 5423454.06000
SECONDARY_SE_QUAD_XY: 312106.07000 5416507.29000
SECONDARY_SW_QUAD_XY: 307523.72000 5416663.66000
RMSE_XY: 6.10000
IMAGE_SOURCE: BLACK AND WHITE FILM
SOURCE_IMAGE_ID: NAPP 5615 11
SOURCE_IMAGE_DATE: 1991 8 26
SOURCE_IMAGE_ID: NAPP 5615 5615
SOURCE_IMAGE_DATE: 1991 8 26
SOURCE_IMAGE_ID: NAPP 5615 00
SOURCE_IMAGE_DATE: 1991 8 26
SOURCE_IMAGE_ID: NAPP 5615 5615
SOURCE_IMAGE_DATE: 1991 8 26
SOURCE_IMAGE_ID: NAPP 5615 22
SOURCE_IMAGE_DATE: 1991 8 26
SOURCE_DEM_DATE: 1995 5 3
AGENCY: WESTERN MAPPING CENTER (WMC)
PRODUCER: Science Applications International
PRODUCTION_SYSTEM: GIS/MAGIC
COMPRESSION: UNDEFINED
STANDARD_VERSION: 1996 12
METADATA_DATE: 1997 5 20
DATA_FILE_SIZE: 42296016
BYTE_COUNT: 5488
