FILENAME: O4811303.NWS.47620.tif
QUADRANGLE_NAME: GABLE MOUNTAIN
QUADRANT: NW
WEST_LONGITUDE: -113 45 0.00000
EAST_LONGITUDE: -113 41 15.00000
NORTH_LATITUDE: 49 0 0.00000
SOUTH_LATITUDE: 48 56 15.00000
PRODUCTION_DATE: 1994 11 18
RASTER_ORDER: LEFT_RIGHT/TOP_BOTTOM
BAND_ORGANIZATION: SINGLE FILE
BAND_CONTENT: BLACK&WHITE
BAND_CONTENT: UNDEFINED
BAND_CONTENT: UNDEFINED
BITS_PER_PIXEL: 8
SAMPLES_AND_LINES: 5495 7714
HORIZONTAL_DATUM: NAD83
HORIZONTAL_COORDINATE_SYSTEM: UTM
COORDINATE_ZONE: 12
HORIZONTAL_UNITS: METERS
HORIZONTAL_RESOLUTION: 1.00000
SECONDARY_HORIZONTAL_DATUM: NAD27
XY_ORIGIN: 298246.00000 5431401.00000
SECONDARY_XY_ORIGIN: 298308.72600 5431181.45300
NATION: US
NATION: CA
STATE: MT
NW_QUAD_CORNER_XY: 298868.73700 5431099.92400
NE_QUAD_CORNER_XY: 303439.43200 5430936.11500
SE_QUAD_CORNERY_XY: 303193.45200 5423989.37500
SW_QUAD_CORNER_XY: 298617.02900 5424153.23300
SECONDARY_NW_QUAD_XY: 298862.27700 5430881.03100
SECONDARY_NE_QUAD_XY: 303433.11800 5430717.21700
SECONDARY_SE_QUAD_XY: 303187.13800 5423770.47800
SECONDARY_SW_QUAD_XY: 298610.56900 5423934.34200
RMSE_XY: 4.00000
IMAGE_SOURCE: BLACK AND WHITE FILM
SOURCE_IMAGE_ID: PAPP 5615 494
SOURCE_IMAGE_DATE: 1991 8 26
SOURCE_DEM_DATE: 1994 11 18
AGENCY: WESTERN MAPPING CENTER (WMC)
PRODUCER: Science Applications International
PRODUCTION_SYSTEM: GIS/MAGIC
COMPRESSION: UNDEFINED
STANDARD_VERSION: 1996 12
METADATA_DATE: 1997 5 19
DATA_FILE_SIZE: 42393925
BYTE_COUNT: 5495
