FILENAME: O4811302.NES.47778.tif
QUADRANGLE_NAME: MOUNT CLEVELAND
QUADRANT: NE
WEST_LONGITUDE: -113 48 45.00000
EAST_LONGITUDE: -113 45 0.00000
NORTH_LATITUDE: 49 0 0.00000
SOUTH_LATITUDE: 48 56 15.00000
PRODUCTION_DATE: 1995 5 4
RASTER_ORDER: LEFT_RIGHT/TOP_BOTTOM
BAND_ORGANIZATION: SINGLE FILE
BAND_CONTENT: BLACK&WHITE
BAND_CONTENT: UNDEFINED
BAND_CONTENT: UNDEFINED
BITS_PER_PIXEL: 8
SAMPLES_AND_LINES: 5500 7718
HORIZONTAL_DATUM: NAD83
HORIZONTAL_COORDINATE_SYSTEM: UTM
COORDINATE_ZONE: 12
HORIZONTAL_UNITS: METERS
HORIZONTAL_RESOLUTION: 1.00000
SECONDARY_HORIZONTAL_DATUM: NAD27
XY_ORIGIN: 293670.00000 5431569.00000
SECONDARY_XY_ORIGIN: 293732.86000 5431349.53000
NATION: US
STATE: MT
NW_QUAD_CORNER_XY: 294298.08000 5431267.50000
NE_QUAD_CORNER_XY: 298868.74000 5431099.92000
SE_QUAD_CORNERY_XY: 298617.03000 5424153.23000
SW_QUAD_CORNER_XY: 294040.64000 5424320.86000
SECONDARY_NW_QUAD_XY: 294291.47000 5431048.61000
SECONDARY_NE_QUAD_XY: 298862.28000 5430881.03000
SECONDARY_SE_QUAD_XY: 298610.57000 5423934.34000
SECONDARY_SW_QUAD_XY: 294034.03000 5424101.98000
RMSE_XY: 4.50000
IMAGE_SOURCE: BLACK AND WHITE FILM
SOURCE_IMAGE_ID: NAPP 5615 99
SOURCE_IMAGE_DATE: 1991 8 26
SOURCE_IMAGE_ID: NAPP 5615 5615
SOURCE_IMAGE_DATE: 1991 8 26
SOURCE_IMAGE_ID: NAPP 5615 000
SOURCE_IMAGE_DATE: 1991 8 26
SOURCE_IMAGE_ID: NAPP 5615 5615
SOURCE_IMAGE_DATE: 1991 8 26
SOURCE_IMAGE_ID: NAPP 5615 88
SOURCE_IMAGE_DATE: 1991 8 26
SOURCE_DEM_DATE: 1995 5 4
AGENCY: WESTERN MAPPING CENTER (WMC)
PRODUCER: Science Applications International
PRODUCTION_SYSTEM: GIS/MAGIC
COMPRESSION: UNDEFINED
STANDARD_VERSION: 1996 12
METADATA_DATE: 1997 5 20
DATA_FILE_SIZE: 42454500
BYTE_COUNT: 5500
