FILENAME: O4811301.SWS.47920.tif
QUADRANGLE_NAME: PORCUPINE RIDGE
QUADRANT: SW
WEST_LONGITUDE: -114 0 0.00000
EAST_LONGITUDE: -113 56 15.00000
NORTH_LATITUDE: 48 56 15.00000
SOUTH_LATITUDE: 48 52 30.00000
PRODUCTION_DATE: 1995 5 1
RASTER_ORDER: LEFT_RIGHT/TOP_BOTTOM
BAND_ORGANIZATION: SINGLE FILE
BAND_CONTENT: BLACK&WHITE
BAND_CONTENT: UNDEFINED
BAND_CONTENT: UNDEFINED
BITS_PER_PIXEL: 8
SAMPLES_AND_LINES: 5524 7729
HORIZONTAL_DATUM: NAD83
HORIZONTAL_COORDINATE_SYSTEM: UTM
COORDINATE_ZONE: 12
HORIZONTAL_UNITS: METERS
HORIZONTAL_RESOLUTION: 1.00000
SECONDARY_HORIZONTAL_DATUM: NAD27
XY_ORIGIN: 279665.00000 5425147.00000
SECONDARY_XY_ORIGIN: 279728.37000 5424927.93000
NATION: US
STATE: MT
NW_QUAD_CORNER_XY: 280311.68000 5424846.38000
NE_QUAD_CORNER_XY: 284887.96000 5424667.44000
SE_QUAD_CORNERY_XY: 284619.33000 5417720.96000
SW_QUAD_CORNER_XY: 280037.32000 5417899.96000
SECONDARY_NW_QUAD_XY: 280304.63000 5424627.51000
SECONDARY_NE_QUAD_XY: 284881.06000 5424448.56000
SECONDARY_SE_QUAD_XY: 284612.43000 5417502.09000
SECONDARY_SW_QUAD_XY: 280030.27000 5417681.09000
RMSE_XY: 1.90000
IMAGE_SOURCE: BLACK AND WHITE FILM
SOURCE_IMAGE_ID: NAPP 5615 262
SOURCE_IMAGE_DATE: 1991 8 26
SOURCE_IMAGE_ID: NAPP 5615 161
SOURCE_IMAGE_DATE: 1991 8 26
SOURCE_IMAGE_ID: NAPP 5615 363
SOURCE_IMAGE_DATE: 1991 8 26
SOURCE_DEM_DATE: 1995 5 1
AGENCY: WESTERN MAPPING CENTER (WMC)
PRODUCER: Science Applications International
PRODUCTION_SYSTEM: GIS/MAGIC
COMPRESSION: UNDEFINED
STANDARD_VERSION: 1996 12
METADATA_DATE: 1997 5 20
DATA_FILE_SIZE: 42700520
BYTE_COUNT: 5524
