FILENAME: O4811462.NES.48324.tif
QUADRANGLE_NAME: LION MOUNTAIN
QUADRANT: NE
WEST_LONGITUDE: -114 18 45.00000
EAST_LONGITUDE: -114 15 0.00000
NORTH_LATITUDE: 48 7 30.00000
SOUTH_LATITUDE: 48 3 45.00000
PRODUCTION_DATE: 1994 10 6
RASTER_ORDER: LEFT_RIGHT/TOP_BOTTOM
BAND_ORGANIZATION: SINGLE FILE
BAND_CONTENT: BLACK&WHITE
BAND_CONTENT: UNDEFINED
BAND_CONTENT: UNDEFINED
BITS_PER_PIXEL: 8
SAMPLES_AND_LINES: 5573 7721
HORIZONTAL_DATUM: NAD83
HORIZONTAL_COORDINATE_SYSTEM: UTM
COORDINATE_ZONE: 11
HORIZONTAL_UNITS: METERS
HORIZONTAL_RESOLUTION: 1.00000
SECONDARY_HORIZONTAL_DATUM: NAD27
XY_ORIGIN: 699610.00000 5334152.00000
SECONDARY_XY_ORIGIN: 699687.70100 5333940.61300
NATION: US
STATE: MT
NW_QUAD_CORNER_XY: 699982.73700 5333687.13600
NE_QUAD_CORNER_XY: 704633.11600 5333851.56900
SE_QUAD_CORNERY_XY: 704881.42000 5326905.69600
SW_QUAD_CORNER_XY: 700225.39100 5326741.22500
SECONDARY_NW_QUAD_XY: 699989.04700 5333468.33800
SECONDARY_NE_QUAD_XY: 704639.57300 5333632.77500
SECONDARY_SE_QUAD_XY: 704887.87700 5326686.91600
SECONDARY_SW_QUAD_XY: 700231.70100 5326522.44000
RMSE_XY: 1.50000
IMAGE_SOURCE: BLACK AND WHITE FILM
SOURCE_IMAGE_ID: NAPP 2640 228
SOURCE_IMAGE_DATE: 1990 7 1
SOURCE_DEM_DATE: 1994 10 6
AGENCY: WESTERN MAPPING CENTER (WMC)
PRODUCER: Science Applications International
PRODUCTION_SYSTEM: GIS/MAGIC
COMPRESSION: UNDEFINED
STANDARD_VERSION: 1996 12
METADATA_DATE: 1997 6 19
DATA_FILE_SIZE: 43034706
BYTE_COUNT: 5573
