FILENAME: O4811462.SES.48326.tif
QUADRANGLE_NAME: LION MOUNTAIN
QUADRANT: SE
WEST_LONGITUDE: -114 18 45.00000
EAST_LONGITUDE: -114 15 0.00000
NORTH_LATITUDE: 48 3 45.00000
SOUTH_LATITUDE: 48 0 0.00000
PRODUCTION_DATE: 1994 10 6
RASTER_ORDER: LEFT_RIGHT/TOP_BOTTOM
BAND_ORGANIZATION: SINGLE FILE
BAND_CONTENT: BLACK&WHITE
BAND_CONTENT: UNDEFINED
BAND_CONTENT: UNDEFINED
BITS_PER_PIXEL: 8
SAMPLES_AND_LINES: 5578 7721
HORIZONTAL_DATUM: NAD83
HORIZONTAL_COORDINATE_SYSTEM: UTM
COORDINATE_ZONE: 11
HORIZONTAL_UNITS: METERS
HORIZONTAL_RESOLUTION: 1.00000
SECONDARY_HORIZONTAL_DATUM: NAD27
XY_ORIGIN: 699853.00000 5327206.00000
SECONDARY_XY_ORIGIN: 699930.64700 5326994.98300
NATION: US
STATE: MT
NW_QUAD_CORNER_XY: 700225.39100 5326741.22500
NE_QUAD_CORNER_XY: 704881.42000 5326905.69600
SE_QUAD_CORNERY_XY: 705129.47900 5319959.88200
SW_QUAD_CORNER_XY: 700467.80500 5319795.37300
SECONDARY_NW_QUAD_XY: 700231.70100 5326522.44000
SECONDARY_NE_QUAD_XY: 704887.87700 5326686.91600
SECONDARY_SE_QUAD_XY: 705135.93500 5319741.11600
SECONDARY_SW_QUAD_XY: 700474.11400 5319576.60200
RMSE_XY: 2.40000
IMAGE_SOURCE: BLACK AND WHITE FILM
SOURCE_IMAGE_ID: NAPP 2640 230
SOURCE_IMAGE_DATE: 1990 7 1
SOURCE_DEM_DATE: 1994 10 6
AGENCY: WESTERN MAPPING CENTER (WMC)
PRODUCER: Science Applications International
PRODUCTION_SYSTEM: GIS/MAGIC
COMPRESSION: UNDEFINED
STANDARD_VERSION: 1996 12
METADATA_DATE: 1997 6 19
DATA_FILE_SIZE: 43073316
BYTE_COUNT: 5578
