FILENAME: O4811462.SWS.48327.tif
QUADRANGLE_NAME: LION MOUNTAIN
QUADRANT: SW
WEST_LONGITUDE: -114 22 30.00000
EAST_LONGITUDE: -114 18 45.00000
NORTH_LATITUDE: 48 3 45.00000
SOUTH_LATITUDE: 48 0 0.00000
PRODUCTION_DATE: 1994 10 6
RASTER_ORDER: LEFT_RIGHT/TOP_BOTTOM
BAND_ORGANIZATION: SINGLE FILE
BAND_CONTENT: BLACK&WHITE
BAND_CONTENT: UNDEFINED
BAND_CONTENT: UNDEFINED
BITS_PER_PIXEL: 8
SAMPLES_AND_LINES: 5573 7718
HORIZONTAL_DATUM: NAD83
HORIZONTAL_COORDINATE_SYSTEM: UTM
COORDINATE_ZONE: 11
HORIZONTAL_UNITS: METERS
HORIZONTAL_RESOLUTION: 1.00000
SECONDARY_HORIZONTAL_DATUM: NAD27
XY_ORIGIN: 695196.00000 5327042.00000
SECONDARY_XY_ORIGIN: 695273.65900 5326830.93200
NATION: US
STATE: MT
NW_QUAD_CORNER_XY: 695569.33600 5326580.53900
NE_QUAD_CORNER_XY: 700225.39100 5326741.22500
SE_QUAD_CORNERY_XY: 700467.80500 5319795.37300
SW_QUAD_CORNER_XY: 695806.10600 5319634.65000
SECONDARY_NW_QUAD_XY: 695575.49900 5326361.74900
SECONDARY_NE_QUAD_XY: 700231.70100 5326522.44000
SECONDARY_SE_QUAD_XY: 700474.11400 5319576.60200
SECONDARY_SW_QUAD_XY: 695812.26900 5319415.87500
RMSE_XY: 2.50000
IMAGE_SOURCE: BLACK AND WHITE FILM
SOURCE_IMAGE_ID: NAPP 2640 241
SOURCE_IMAGE_DATE: 1990 7 1
SOURCE_DEM_DATE: 1994 10 6
AGENCY: WESTERN MAPPING CENTER (WMC)
PRODUCER: Science Applications International
PRODUCTION_SYSTEM: GIS/MAGIC
COMPRESSION: UNDEFINED
STANDARD_VERSION: 1996 12
METADATA_DATE: 1997 6 19
DATA_FILE_SIZE: 43017987
BYTE_COUNT: 5573
