FILENAME: O4811460.NWS.48645.tif
QUADRANGLE_NAME: HASKILL MOUNTAIN
QUADRANT: NW
WEST_LONGITUDE: -114 37 30.00000
EAST_LONGITUDE: -114 33 45.00000
NORTH_LATITUDE: 48 7 30.00000
SOUTH_LATITUDE: 48 3 45.00000
PRODUCTION_DATE: 1994 10 6
RASTER_ORDER: LEFT_RIGHT/TOP_BOTTOM
BAND_ORGANIZATION: SINGLE FILE
BAND_CONTENT: BLACK&WHITE
BAND_CONTENT: UNDEFINED
BAND_CONTENT: UNDEFINED
BITS_PER_PIXEL: 8
SAMPLES_AND_LINES: 5546 7702
HORIZONTAL_DATUM: NAD83
HORIZONTAL_COORDINATE_SYSTEM: UTM
COORDINATE_ZONE: 11
HORIZONTAL_UNITS: METERS
HORIZONTAL_RESOLUTION: 1.00000
SECONDARY_HORIZONTAL_DATUM: NAD27
XY_ORIGIN: 676357.00000 5333368.00000
SECONDARY_XY_ORIGIN: 676434.48400 5333156.36600
NATION: US
STATE: MT
NW_QUAD_CORNER_XY: 676730.46600 5332921.73800
NE_QUAD_CORNER_XY: 681380.96800 5333067.25000
SE_QUAD_CORNERY_XY: 681601.02500 5326121.19300
SW_QUAD_CORNER_XY: 676944.87500 5325975.64700
SECONDARY_NW_QUAD_XY: 676736.04200 5332702.91600
SECONDARY_NE_QUAD_XY: 681386.69100 5332848.43200
SECONDARY_SE_QUAD_XY: 681606.74800 5325902.38900
SECONDARY_SW_QUAD_XY: 676950.45100 5325756.83800
RMSE_XY: 2.40000
IMAGE_SOURCE: BLACK AND WHITE FILM
SOURCE_IMAGE_ID: NAPP 2640 047
SOURCE_IMAGE_DATE: 1990 7 1
SOURCE_DEM_DATE: 1994 10 6
AGENCY: WESTERN MAPPING CENTER (WMC)
PRODUCER: Science Applications International
PRODUCTION_SYSTEM: GIS/MAGIC
COMPRESSION: UNDEFINED
STANDARD_VERSION: 1996 12
METADATA_DATE: 1997 7 16
DATA_FILE_SIZE: 42720838
BYTE_COUNT: 5546
