FILENAME: O4811458.SWS.49034.tif
QUADRANGLE_NAME: MCGREGOR PEAK
QUADRANT: SW
WEST_LONGITUDE: -114 52 30.00000
EAST_LONGITUDE: -114 48 45.00000
NORTH_LATITUDE: 48 3 45.00000
SOUTH_LATITUDE: 48 0 0.00000
PRODUCTION_DATE: 1994 10 13
RASTER_ORDER: LEFT_RIGHT/TOP_BOTTOM
BAND_ORGANIZATION: SINGLE FILE
BAND_CONTENT: BLACK&WHITE
BAND_CONTENT: UNDEFINED
BAND_CONTENT: UNDEFINED
BITS_PER_PIXEL: 8
SAMPLES_AND_LINES: 5529 7687
HORIZONTAL_DATUM: NAD83
HORIZONTAL_COORDINATE_SYSTEM: UTM
COORDINATE_ZONE: 11
HORIZONTAL_UNITS: METERS
HORIZONTAL_RESOLUTION: 1.00000
SECONDARY_HORIZONTAL_DATUM: NAD27
XY_ORIGIN: 657946.00000 5325862.00000
SECONDARY_XY_ORIGIN: 658023.30200 5325650.63800
NATION: US
STATE: MT
NW_QUAD_CORNER_XY: 658320.05600 5325431.29900
NE_QUAD_CORNER_XY: 662976.29200 5325561.71100
SE_QUAD_CORNERY_XY: 663173.56400 5318615.58800
SW_QUAD_CORNER_XY: 658511.68700 5318485.14600
SECONDARY_NW_QUAD_XY: 658325.04500 5325212.47300
SECONDARY_NE_QUAD_XY: 662981.42800 5325342.88900
SECONDARY_SE_QUAD_XY: 663178.70000 5318396.78000
SECONDARY_SW_QUAD_XY: 658516.67600 5318266.33400
RMSE_XY: 2.90000
IMAGE_SOURCE: BLACK AND WHITE FILM
SOURCE_IMAGE_ID: NAPP 2644 046
SOURCE_IMAGE_DATE: 1990 8 6
SOURCE_DEM_DATE: 1994 10 13
AGENCY: WESTERN MAPPING CENTER (WMC)
PRODUCER: Science Applications International
PRODUCTION_SYSTEM: GIS/MAGIC
COMPRESSION: UNDEFINED
STANDARD_VERSION: 1996 12
METADATA_DATE: 1997 7 15
DATA_FILE_SIZE: 42506952
BYTE_COUNT: 5529
