FILENAME: O4811457.NES.49168.tif
QUADRANGLE_NAME: MEADOW PEAK
QUADRANT: NE
WEST_LONGITUDE: -114 56 15.00000
EAST_LONGITUDE: -114 52 30.00000
NORTH_LATITUDE: 48 7 30.00000
SOUTH_LATITUDE: 48 3 45.00000
PRODUCTION_DATE: 1994 11 4
RASTER_ORDER: LEFT_RIGHT/TOP_BOTTOM
BAND_ORGANIZATION: SINGLE FILE
BAND_CONTENT: BLACK&WHITE
BAND_CONTENT: UNDEFINED
BAND_CONTENT: UNDEFINED
BITS_PER_PIXEL: 8
SAMPLES_AND_LINES: 5518 7683
HORIZONTAL_DATUM: NAD83
HORIZONTAL_COORDINATE_SYSTEM: UTM
COORDINATE_ZONE: 11
HORIZONTAL_UNITS: METERS
HORIZONTAL_RESOLUTION: 1.00000
SECONDARY_HORIZONTAL_DATUM: NAD27
XY_ORIGIN: 653104.00000 5332678.00000
SECONDARY_XY_ORIGIN: 653181.44000 5332466.27200
NATION: US
STATE: MT
NW_QUAD_CORNER_XY: 653477.62400 5332250.91900
NE_QUAD_CORNER_XY: 658128.23400 5332377.51800
SE_QUAD_CORNERY_XY: 658320.05600 5325431.29900
SW_QUAD_CORNER_XY: 653663.79900 5325304.67000
SECONDARY_NW_QUAD_XY: 653482.46700 5332032.07500
SECONDARY_NE_QUAD_XY: 658133.22400 5332158.67900
SECONDARY_SE_QUAD_XY: 658325.04500 5325212.47300
SECONDARY_SW_QUAD_XY: 653668.64200 5325085.84000
RMSE_XY: 3.70000
IMAGE_SOURCE: BLACK AND WHITE FILM
SOURCE_IMAGE_ID: NAPP 2644 109
SOURCE_IMAGE_DATE: 1990 8 6
SOURCE_DEM_DATE: 1994 11 4
AGENCY: WESTERN MAPPING CENTER (WMC)
PRODUCER: Science Applications International
PRODUCTION_SYSTEM: GIS/MAGIC
COMPRESSION: UNDEFINED
STANDARD_VERSION: 1996 12
METADATA_DATE: 1997 7 16
DATA_FILE_SIZE: 42400312
BYTE_COUNT: 5518
