FILENAME: O4811456.SES.48073.tif
QUADRANGLE_NAME: HASH MOUNTAIN
QUADRANT: SE
WEST_LONGITUDE: -114 3 45.00000
EAST_LONGITUDE: -114 0 0.00000
NORTH_LATITUDE: 48 11 15.00000
SOUTH_LATITUDE: 48 7 30.00000
PRODUCTION_DATE: 1994 11 4
RASTER_ORDER: LEFT_RIGHT/TOP_BOTTOM
BAND_ORGANIZATION: SINGLE FILE
BAND_CONTENT: BLACK&WHITE
BAND_CONTENT: UNDEFINED
BAND_CONTENT: UNDEFINED
BITS_PER_PIXEL: 8
SAMPLES_AND_LINES: 5589 7735
HORIZONTAL_DATUM: NAD83
HORIZONTAL_COORDINATE_SYSTEM: UTM
COORDINATE_ZONE: 11
HORIZONTAL_UNITS: METERS
HORIZONTAL_RESOLUTION: 1.00000
SECONDARY_HORIZONTAL_DATUM: NAD27
XY_ORIGIN: 717947.00000 5341793.00000
SECONDARY_XY_ORIGIN: 718024.30100 5341581.40400
NATION: US
STATE: MT
NW_QUAD_CORNER_XY: 718318.57200 5341313.38400
NE_QUAD_CORNER_XY: 722963.18400 5341492.91500
SE_QUAD_CORNERY_XY: 723234.36200 5334547.15100
SW_QUAD_CORNER_XY: 718584.09200 5334367.57700
SECONDARY_NW_QUAD_XY: 718325.47000 5341094.59500
SECONDARY_NE_QUAD_XY: 722970.22900 5341274.13200
SECONDARY_SE_QUAD_XY: 723241.40600 5334328.38000
SECONDARY_SW_QUAD_XY: 718590.99000 5334148.80000
RMSE_XY: 1.70000
IMAGE_SOURCE: BLACK AND WHITE FILM
SOURCE_IMAGE_ID: NAPP 5693 012
SOURCE_IMAGE_DATE: 1991 9 4
SOURCE_DEM_DATE: 1994 11 4
AGENCY: WESTERN MAPPING CENTER (WMC)
PRODUCER: Science Applications International
PRODUCTION_SYSTEM: GIS/MAGIC
COMPRESSION: UNDEFINED
STANDARD_VERSION: 1996 12
METADATA_DATE: 1997 6 19
DATA_FILE_SIZE: 43236504
BYTE_COUNT: 5589
