FILENAME: O4811456.SWS.48074.tif
QUADRANGLE_NAME: HASH MOUNTAIN
QUADRANT: SW
WEST_LONGITUDE: -114 7 30.00000
EAST_LONGITUDE: -114 3 45.00000
NORTH_LATITUDE: 48 11 15.00000
SOUTH_LATITUDE: 48 7 30.00000
PRODUCTION_DATE: 1994 11 4
RASTER_ORDER: LEFT_RIGHT/TOP_BOTTOM
BAND_ORGANIZATION: SINGLE FILE
BAND_CONTENT: BLACK&WHITE
BAND_CONTENT: UNDEFINED
BAND_CONTENT: UNDEFINED
BITS_PER_PIXEL: 8
SAMPLES_AND_LINES: 5584 7732
HORIZONTAL_DATUM: NAD83
HORIZONTAL_COORDINATE_SYSTEM: UTM
COORDINATE_ZONE: 11
HORIZONTAL_UNITS: METERS
HORIZONTAL_RESOLUTION: 1.00000
SECONDARY_HORIZONTAL_DATUM: NAD27
XY_ORIGIN: 713302.00000 5341614.00000
SECONDARY_XY_ORIGIN: 713379.43900 5341402.36900
NATION: US
STATE: MT
NW_QUAD_CORNER_XY: 713673.93200 5341137.63800
NE_QUAD_CORNER_XY: 718318.57200 5341313.38400
SE_QUAD_CORNERY_XY: 718584.09200 5334367.57700
SW_QUAD_CORNER_XY: 713933.79400 5334191.78900
SECONDARY_NW_QUAD_XY: 713680.68300 5340918.84300
SECONDARY_NE_QUAD_XY: 718325.47000 5341094.59500
SECONDARY_SE_QUAD_XY: 718590.99000 5334148.80000
SECONDARY_SW_QUAD_XY: 713940.54500 5333973.00600
RMSE_XY: 2.20000
IMAGE_SOURCE: BLACK AND WHITE FILM
SOURCE_IMAGE_ID: NAPP 2641 104
SOURCE_IMAGE_DATE: 1990 7 1
SOURCE_DEM_DATE: 1994 11 4
AGENCY: WESTERN MAPPING CENTER (WMC)
PRODUCER: Science Applications International
PRODUCTION_SYSTEM: GIS/MAGIC
COMPRESSION: UNDEFINED
STANDARD_VERSION: 1996 12
METADATA_DATE: 1997 6 19
DATA_FILE_SIZE: 43181072
BYTE_COUNT: 5584
