FILENAME: O4811455.NWS.48197.tif
QUADRANGLE_NAME: CRESTON
QUADRANT: NW
WEST_LONGITUDE: -114 15 0.00000
EAST_LONGITUDE: -114 11 15.00000
NORTH_LATITUDE: 48 15 0.00000
SOUTH_LATITUDE: 48 11 15.00000
PRODUCTION_DATE: 1994 11 4
RASTER_ORDER: LEFT_RIGHT/TOP_BOTTOM
BAND_ORGANIZATION: SINGLE FILE
BAND_CONTENT: BLACK&WHITE
BAND_CONTENT: UNDEFINED
BAND_CONTENT: UNDEFINED
BITS_PER_PIXEL: 8
SAMPLES_AND_LINES: 5568 7724
HORIZONTAL_DATUM: NAD83
HORIZONTAL_COORDINATE_SYSTEM: UTM
COORDINATE_ZONE: 11
HORIZONTAL_UNITS: METERS
HORIZONTAL_RESOLUTION: 1.00000
SECONDARY_HORIZONTAL_DATUM: NAD27
XY_ORIGIN: 703763.00000 5348212.00000
SECONDARY_XY_ORIGIN: 703840.74800 5347999.93200
NATION: US
STATE: MT
NW_QUAD_CORNER_XY: 704135.77300 5347743.49000
NE_QUAD_CORNER_XY: 708774.80700 5347911.62500
SE_QUAD_CORNERY_XY: 709029.26300 5340965.67700
SW_QUAD_CORNER_XY: 704384.56700 5340797.50000
SECONDARY_NW_QUAD_XY: 704142.23100 5347524.67200
SECONDARY_NE_QUAD_XY: 708781.41200 5347692.81300
SECONDARY_SE_QUAD_XY: 709035.86800 5340746.87600
SECONDARY_SW_QUAD_XY: 704391.02400 5340578.69400
RMSE_XY: 0.90000
IMAGE_SOURCE: BLACK AND WHITE FILM
SOURCE_IMAGE_ID: NAPP 2641 032
SOURCE_IMAGE_DATE: 1990 7 1
SOURCE_DEM_DATE: 1994 11 4
AGENCY: WESTERN MAPPING CENTER (WMC)
PRODUCER: Science Applications International
PRODUCTION_SYSTEM: GIS/MAGIC
COMPRESSION: UNDEFINED
STANDARD_VERSION: 1996 12
METADATA_DATE: 1997 6 19
DATA_FILE_SIZE: 43012800
BYTE_COUNT: 5568
