FILENAME: O4811454.NWS.48321.tif
QUADRANGLE_NAME: KALISPELL
QUADRANT: NW
WEST_LONGITUDE: -114 22 30.00000
EAST_LONGITUDE: -114 18 45.00000
NORTH_LATITUDE: 48 15 0.00000
SOUTH_LATITUDE: 48 11 15.00000
PRODUCTION_DATE: 1994 10 6
RASTER_ORDER: LEFT_RIGHT/TOP_BOTTOM
BAND_ORGANIZATION: SINGLE FILE
BAND_CONTENT: BLACK&WHITE
BAND_CONTENT: UNDEFINED
BAND_CONTENT: UNDEFINED
BITS_PER_PIXEL: 8
SAMPLES_AND_LINES: 5557 7717
HORIZONTAL_DATUM: NAD83
HORIZONTAL_COORDINATE_SYSTEM: UTM
COORDINATE_ZONE: 11
HORIZONTAL_UNITS: METERS
HORIZONTAL_RESOLUTION: 1.00000
SECONDARY_HORIZONTAL_DATUM: NAD27
XY_ORIGIN: 694484.00000 5347880.00000
SECONDARY_XY_ORIGIN: 694561.88400 5347667.81800
NATION: US
STATE: MT
NW_QUAD_CORNER_XY: 694857.62200 5347418.56700
NE_QUAD_CORNER_XY: 699496.71100 5347579.13700
SE_QUAD_CORNERY_XY: 699739.84400 5340633.10700
SW_QUAD_CORNER_XY: 695095.09400 5340472.49800
SECONDARY_NW_QUAD_XY: 694863.78700 5347199.73900
SECONDARY_NE_QUAD_XY: 699503.02200 5347360.31400
SECONDARY_SE_QUAD_XY: 699746.15400 5340414.29600
SECONDARY_SW_QUAD_XY: 695101.25800 5340253.68200
RMSE_XY: 1.60000
IMAGE_SOURCE: BLACK AND WHITE FILM
SOURCE_IMAGE_ID: NAPP 2640 208
SOURCE_IMAGE_DATE: 1990 7 1
SOURCE_DEM_DATE: 1994 10 6
AGENCY: WESTERN MAPPING CENTER (WMC)
PRODUCER: Science Applications International
PRODUCTION_SYSTEM: GIS/MAGIC
COMPRESSION: UNDEFINED
STANDARD_VERSION: 1996 12
METADATA_DATE: 1997 6 19
DATA_FILE_SIZE: 42888926
BYTE_COUNT: 5557
