FILENAME: O4811452.NWS.48641.tif
QUADRANGLE_NAME: LONE LAKE
QUADRANT: NW
WEST_LONGITUDE: -114 37 30.00000
EAST_LONGITUDE: -114 33 45.00000
NORTH_LATITUDE: 48 15 0.00000
SOUTH_LATITUDE: 48 11 15.00000
PRODUCTION_DATE: 1994 10 13
RASTER_ORDER: LEFT_RIGHT/TOP_BOTTOM
BAND_ORGANIZATION: SINGLE FILE
BAND_CONTENT: BLACK&WHITE
BAND_CONTENT: UNDEFINED
BAND_CONTENT: UNDEFINED
BITS_PER_PIXEL: 8
SAMPLES_AND_LINES: 5535 7701
HORIZONTAL_DATUM: NAD83
HORIZONTAL_COORDINATE_SYSTEM: UTM
COORDINATE_ZONE: 11
HORIZONTAL_UNITS: METERS
HORIZONTAL_RESOLUTION: 1.00000
SECONDARY_HORIZONTAL_DATUM: NAD27
XY_ORIGIN: 675927.00000 5347260.00000
SECONDARY_XY_ORIGIN: 676004.74000 5347047.59700
NATION: US
STATE: MT
NW_QUAD_CORNER_XY: 676301.01200 5346814.11000
NE_QUAD_CORNER_XY: 680940.20200 5346959.55200
SE_QUAD_CORNERY_XY: 681160.69300 5340013.37000
SW_QUAD_CORNER_XY: 676515.84500 5339867.89300
SECONDARY_NW_QUAD_XY: 676306.58900 5346595.26300
SECONDARY_NE_QUAD_XY: 680945.92600 5346740.70900
SECONDARY_SE_QUAD_XY: 681166.41700 5339794.53900
SECONDARY_SW_QUAD_XY: 676521.42100 5339649.05700
RMSE_XY: 3.90000
IMAGE_SOURCE: BLACK AND WHITE FILM
SOURCE_IMAGE_ID: NAPP 2640 051
SOURCE_IMAGE_DATE: 1990 7 1
SOURCE_DEM_DATE: 1994 10 13
AGENCY: WESTERN MAPPING CENTER (WMC)
PRODUCER: Science Applications International
PRODUCTION_SYSTEM: GIS/MAGIC
COMPRESSION: UNDEFINED
STANDARD_VERSION: 1996 12
METADATA_DATE: 1997 7 15
DATA_FILE_SIZE: 42630570
BYTE_COUNT: 5535
