FILENAME: O4811452.SWS.48643.tif
QUADRANGLE_NAME: LONE LAKE
QUADRANT: SW
WEST_LONGITUDE: -114 37 30.00000
EAST_LONGITUDE: -114 33 45.00000
NORTH_LATITUDE: 48 11 15.00000
SOUTH_LATITUDE: 48 7 30.00000
PRODUCTION_DATE: 1994 10 13
RASTER_ORDER: LEFT_RIGHT/TOP_BOTTOM
BAND_ORGANIZATION: SINGLE FILE
BAND_CONTENT: BLACK&WHITE
BAND_CONTENT: UNDEFINED
BAND_CONTENT: UNDEFINED
BITS_PER_PIXEL: 8
SAMPLES_AND_LINES: 5540 7702
HORIZONTAL_DATUM: NAD83
HORIZONTAL_COORDINATE_SYSTEM: UTM
COORDINATE_ZONE: 11
HORIZONTAL_UNITS: METERS
HORIZONTAL_RESOLUTION: 1.00000
SECONDARY_HORIZONTAL_DATUM: NAD27
XY_ORIGIN: 676142.00000 5340314.00000
SECONDARY_XY_ORIGIN: 676219.61200 5340101.98100
NATION: US
STATE: MT
NW_QUAD_CORNER_XY: 676515.84500 5339867.89300
NE_QUAD_CORNER_XY: 681160.69300 5340013.37000
SE_QUAD_CORNERY_XY: 681380.96800 5333067.25000
SW_QUAD_CORNER_XY: 676730.46600 5332921.73800
SECONDARY_NW_QUAD_XY: 676521.42100 5339649.05700
SECONDARY_NE_QUAD_XY: 681166.41700 5339794.53900
SECONDARY_SE_QUAD_XY: 681386.69100 5332848.43200
SECONDARY_SW_QUAD_XY: 676736.04200 5332702.91600
RMSE_XY: 3.10000
IMAGE_SOURCE: BLACK AND WHITE FILM
SOURCE_IMAGE_ID: NAPP 2640 049
SOURCE_IMAGE_DATE: 1990 7 1
SOURCE_DEM_DATE: 1994 10 13
AGENCY: WESTERN MAPPING CENTER (WMC)
PRODUCER: Science Applications International
PRODUCTION_SYSTEM: GIS/MAGIC
COMPRESSION: UNDEFINED
STANDARD_VERSION: 1996 12
METADATA_DATE: 1997 7 15
DATA_FILE_SIZE: 42674620
BYTE_COUNT: 5540
