FILENAME: O4811451.SES.48846.tif
QUADRANGLE_NAME: PLEASANT VALLEY MOUNTAIN
QUADRANT: SE
WEST_LONGITUDE: -114 41 15.00000
EAST_LONGITUDE: -114 37 30.00000
NORTH_LATITUDE: 48 11 15.00000
SOUTH_LATITUDE: 48 7 30.00000
PRODUCTION_DATE: 1994 10 13
RASTER_ORDER: LEFT_RIGHT/TOP_BOTTOM
BAND_ORGANIZATION: SINGLE FILE
BAND_CONTENT: BLACK&WHITE
BAND_CONTENT: UNDEFINED
BAND_CONTENT: UNDEFINED
BITS_PER_PIXEL: 8
SAMPLES_AND_LINES: 5535 7698
HORIZONTAL_DATUM: NAD83
HORIZONTAL_COORDINATE_SYSTEM: UTM
COORDINATE_ZONE: 11
HORIZONTAL_UNITS: METERS
HORIZONTAL_RESOLUTION: 1.00000
SECONDARY_HORIZONTAL_DATUM: NAD27
XY_ORIGIN: 671497.00000 5340168.00000
SECONDARY_XY_ORIGIN: 671574.46400 5339955.93100
NATION: US
STATE: MT
NW_QUAD_CORNER_XY: 671870.97300 5339726.19800
NE_QUAD_CORNER_XY: 676515.84500 5339867.89300
SE_QUAD_CORNERY_XY: 676730.46600 5332921.73800
SW_QUAD_CORNER_XY: 672079.94000 5332780.00900
SECONDARY_NW_QUAD_XY: 671876.40300 5339507.35800
SECONDARY_NE_QUAD_XY: 676521.42100 5339649.05700
SECONDARY_SE_QUAD_XY: 676736.04200 5332702.91600
SECONDARY_SW_QUAD_XY: 672085.37000 5332561.18200
RMSE_XY: 1.80000
IMAGE_SOURCE: BLACK AND WHITE FILM
SOURCE_IMAGE_ID: NAPP 2663 008
SOURCE_IMAGE_DATE: 1991 9 4
SOURCE_DEM_DATE: 1994 10 13
AGENCY: WESTERN MAPPING CENTER (WMC)
PRODUCER: Science Applications International
PRODUCTION_SYSTEM: GIS/MAGIC
COMPRESSION: UNDEFINED
STANDARD_VERSION: 1996 12
METADATA_DATE: 1997 7 15
DATA_FILE_SIZE: 42613965
BYTE_COUNT: 5535
