FILENAME: O4811451.SWS.48847.tif
QUADRANGLE_NAME: PLEASANT VALLEY MOUNTAIN
QUADRANT: SW
WEST_LONGITUDE: -114 45 0.00000
EAST_LONGITUDE: -114 41 15.00000
NORTH_LATITUDE: 48 11 15.00000
SOUTH_LATITUDE: 48 7 30.00000
PRODUCTION_DATE: 1994 10 13
RASTER_ORDER: LEFT_RIGHT/TOP_BOTTOM
BAND_ORGANIZATION: SINGLE FILE
BAND_CONTENT: BLACK&WHITE
BAND_CONTENT: UNDEFINED
BAND_CONTENT: UNDEFINED
BITS_PER_PIXEL: 8
SAMPLES_AND_LINES: 5528 7695
HORIZONTAL_DATUM: NAD83
HORIZONTAL_COORDINATE_SYSTEM: UTM
COORDINATE_ZONE: 11
HORIZONTAL_UNITS: METERS
HORIZONTAL_RESOLUTION: 1.00000
SECONDARY_HORIZONTAL_DATUM: NAD27
XY_ORIGIN: 666853.00000 5340027.00000
SECONDARY_XY_ORIGIN: 666930.31600 5339814.88100
NATION: US
STATE: MT
NW_QUAD_CORNER_XY: 667226.07800 5339588.28400
NE_QUAD_CORNER_XY: 671870.97300 5339726.19800
SE_QUAD_CORNERY_XY: 672079.94000 5332780.00900
SW_QUAD_CORNER_XY: 667429.39300 5332642.06300
SECONDARY_NW_QUAD_XY: 667231.36100 5339369.44000
SECONDARY_NE_QUAD_XY: 671876.40300 5339507.35800
SECONDARY_SE_QUAD_XY: 672085.37000 5332561.18200
SECONDARY_SW_QUAD_XY: 667434.67600 5332423.23200
RMSE_XY: 3.00000
IMAGE_SOURCE: BLACK AND WHITE FILM
SOURCE_IMAGE_ID: NAPP 2648 025
SOURCE_IMAGE_DATE: 1990 8 16
SOURCE_DEM_DATE: 1994 10 13
AGENCY: WESTERN MAPPING CENTER (WMC)
PRODUCER: Science Applications International
PRODUCTION_SYSTEM: GIS/MAGIC
COMPRESSION: UNDEFINED
STANDARD_VERSION: 1996 12
METADATA_DATE: 1997 7 15
DATA_FILE_SIZE: 42543488
BYTE_COUNT: 5528
