FILENAME: O4811448.SES.48069.tif
QUADRANGLE_NAME: DORIS MOUNTAIN
QUADRANT: SE
WEST_LONGITUDE: -114 3 45.00000
EAST_LONGITUDE: -114 0 0.00000
NORTH_LATITUDE: 48 18 45.00000
SOUTH_LATITUDE: 48 15 0.00000
PRODUCTION_DATE: 1995 5 2
RASTER_ORDER: LEFT_RIGHT/TOP_BOTTOM
BAND_ORGANIZATION: SINGLE FILE
BAND_CONTENT: BLACK&WHITE
BAND_CONTENT: UNDEFINED
BAND_CONTENT: UNDEFINED
BITS_PER_PIXEL: 8
SAMPLES_AND_LINES: 5578 7735
HORIZONTAL_DATUM: NAD83
HORIZONTAL_COORDINATE_SYSTEM: UTM
COORDINATE_ZONE: 11
HORIZONTAL_UNITS: METERS
HORIZONTAL_RESOLUTION: 1.00000
SECONDARY_HORIZONTAL_DATUM: NAD27
XY_ORIGIN: 717415.00000 5355685.00000
SECONDARY_XY_ORIGIN: 717492.33500 5355472.95000
NATION: US
STATE: MT
NW_QUAD_CORNER_XY: 717786.74800 5355205.16700
NE_QUAD_CORNER_XY: 722420.02800 5355384.60900
SE_QUAD_CORNERY_XY: 722691.73900 5348438.73500
SW_QUAD_CORNER_XY: 718052.79100 5348259.24700
SECONDARY_NW_QUAD_XY: 717793.64700 5354986.35500
SECONDARY_NE_QUAD_XY: 722427.07300 5355165.80200
SECONDARY_SE_QUAD_XY: 722698.78400 5348219.93900
SECONDARY_SW_QUAD_XY: 718059.68900 5348040.44600
RMSE_XY: 2.30000
IMAGE_SOURCE: BLACK AND WHITE FILM
SOURCE_IMAGE_ID: NAPP 2661 32
SOURCE_IMAGE_DATE: 1991 8 26
SOURCE_IMAGE_ID: NAPP 2661 2661
SOURCE_IMAGE_DATE: 1991 8 26
SOURCE_IMAGE_ID: NAPP 2661 31
SOURCE_IMAGE_DATE: 1991 8 26
SOURCE_DEM_DATE: 1995 5 2
AGENCY: WESTERN MAPPING CENTER (WMC)
PRODUCER: Science Applications International
PRODUCTION_SYSTEM: GIS/MAGIC
COMPRESSION: UNDEFINED
STANDARD_VERSION: 1996 12
METADATA_DATE: 1997 7 25
DATA_FILE_SIZE: 43151408
BYTE_COUNT: 5578
