FILENAME: O4811443.SES.48842.tif
QUADRANGLE_NAME: ASHLEY MOUNTAIN
QUADRANT: SE
WEST_LONGITUDE: -114 41 15.00000
EAST_LONGITUDE: -114 37 30.00000
NORTH_LATITUDE: 48 18 45.00000
SOUTH_LATITUDE: 48 15 0.00000
PRODUCTION_DATE: 1995 5 2
RASTER_ORDER: LEFT_RIGHT/TOP_BOTTOM
BAND_ORGANIZATION: SINGLE FILE
BAND_CONTENT: BLACK&WHITE
BAND_CONTENT: UNDEFINED
BAND_CONTENT: UNDEFINED
BITS_PER_PIXEL: 8
SAMPLES_AND_LINES: 5524 7697
HORIZONTAL_DATUM: NAD83
HORIZONTAL_COORDINATE_SYSTEM: UTM
COORDINATE_ZONE: 11
HORIZONTAL_UNITS: METERS
HORIZONTAL_RESOLUTION: 1.00000
SECONDARY_HORIZONTAL_DATUM: NAD27
XY_ORIGIN: 671079.00000 5354061.00000
SECONDARY_XY_ORIGIN: 671156.57500 5353848.48600
NATION: US
STATE: MT
NW_QUAD_CORNER_XY: 671452.41900 5353618.76500
NE_QUAD_CORNER_XY: 676085.96800 5353760.39000
SE_QUAD_CORNERY_XY: 676301.01200 5346814.11000
SW_QUAD_CORNER_XY: 671661.79900 5346672.44900
SECONDARY_NW_QUAD_XY: 671457.85000 5353399.90200
SECONDARY_NE_QUAD_XY: 676091.54600 5353541.53200
SECONDARY_SE_QUAD_XY: 676306.58900 5346595.26300
SECONDARY_SW_QUAD_XY: 671667.22900 5346453.59800
RMSE_XY: 7.60000
IMAGE_SOURCE: BLACK AND WHITE FILM
SOURCE_IMAGE_ID: NAPP 2663 12
SOURCE_IMAGE_DATE: 1991 9 4
SOURCE_IMAGE_ID: NAPP 2663 2663
SOURCE_IMAGE_DATE: 1991 9 4
SOURCE_IMAGE_ID: NAPP 2663 11
SOURCE_IMAGE_DATE: 1991 9 4
SOURCE_DEM_DATE: 1995 5 2
AGENCY: WESTERN MAPPING CENTER (WMC)
PRODUCER: Science Applications International
PRODUCTION_SYSTEM: GIS/MAGIC
COMPRESSION: UNDEFINED
STANDARD_VERSION: 1996 12
METADATA_DATE: 1997 7 25
DATA_FILE_SIZE: 42523752
BYTE_COUNT: 5524
