FILENAME: O4811440.NES.48063.tif
QUADRANGLE_NAME: HUNGRY HORSE
QUADRANT: NE
WEST_LONGITUDE: -114 3 45.00000
EAST_LONGITUDE: -114 0 0.00000
NORTH_LATITUDE: 48 30 0.00000
SOUTH_LATITUDE: 48 26 15.00000
PRODUCTION_DATE: 1994 11 4
RASTER_ORDER: LEFT_RIGHT/TOP_BOTTOM
BAND_ORGANIZATION: SINGLE FILE
BAND_CONTENT: BLACK&WHITE
BAND_CONTENT: UNDEFINED
BAND_CONTENT: UNDEFINED
BITS_PER_PIXEL: 8
SAMPLES_AND_LINES: 5562 7735
HORIZONTAL_DATUM: NAD83
HORIZONTAL_COORDINATE_SYSTEM: UTM
COORDINATE_ZONE: 11
HORIZONTAL_UNITS: METERS
HORIZONTAL_RESOLUTION: 1.00000
SECONDARY_HORIZONTAL_DATUM: NAD27
XY_ORIGIN: 716615.00000 5376523.00000
SECONDARY_XY_ORIGIN: 716692.28500 5376310.59000
NATION: US
STATE: MT
NW_QUAD_CORNER_XY: 716987.05800 5376043.26100
NE_QUAD_CORNER_XY: 721603.29700 5376222.56300
SE_QUAD_CORNERY_XY: 721875.80600 5369276.52300
SW_QUAD_CORNER_XY: 717253.88200 5369097.17300
SECONDARY_NW_QUAD_XY: 716993.95800 5375824.42100
SECONDARY_NE_QUAD_XY: 721610.34400 5376003.72900
SECONDARY_SE_QUAD_XY: 721882.85300 5369057.69700
SECONDARY_SW_QUAD_XY: 717260.78200 5368878.34200
RMSE_XY: 3.20000
IMAGE_SOURCE: BLACK AND WHITE FILM
SOURCE_IMAGE_ID: NAPP 2661 026
SOURCE_IMAGE_DATE: 1991 8 26
SOURCE_DEM_DATE: 1994 11 4
AGENCY: WESTERN MAPPING CENTER (WMC)
PRODUCER: Science Applications International
PRODUCTION_SYSTEM: GIS/MAGIC
COMPRESSION: UNDEFINED
STANDARD_VERSION: 1996 12
METADATA_DATE: 1997 7 27
DATA_FILE_SIZE: 43027632
BYTE_COUNT: 5562
