FILENAME: O4811438.NES.48312.tif
QUADRANGLE_NAME: WHITEFISH
QUADRANT: NE
WEST_LONGITUDE: -114 18 45.00000
EAST_LONGITUDE: -114 15 0.00000
NORTH_LATITUDE: 48 30 0.00000
SOUTH_LATITUDE: 48 26 15.00000
PRODUCTION_DATE: 1994 10 13
RASTER_ORDER: LEFT_RIGHT/TOP_BOTTOM
BAND_ORGANIZATION: SINGLE FILE
BAND_CONTENT: BLACK&WHITE
BAND_CONTENT: UNDEFINED
BAND_CONTENT: UNDEFINED
BITS_PER_PIXEL: 8
SAMPLES_AND_LINES: 5540 7720
HORIZONTAL_DATUM: NAD83
HORIZONTAL_COORDINATE_SYSTEM: UTM
COORDINATE_ZONE: 11
HORIZONTAL_UNITS: METERS
HORIZONTAL_RESOLUTION: 1.00000
SECONDARY_HORIZONTAL_DATUM: NAD27
XY_ORIGIN: 698149.00000 5375829.00000
SECONDARY_XY_ORIGIN: 698226.53500 5375616.40900
NATION: US
STATE: MT
NW_QUAD_CORNER_XY: 698521.79500 5375363.85000
NE_QUAD_CORNER_XY: 703138.15500 5375528.03300
SE_QUAD_CORNERY_XY: 703387.92500 5368581.81000
SW_QUAD_CORNER_XY: 698765.88100 5368417.58300
SECONDARY_NW_QUAD_XY: 698528.10700 5375144.98800
SECONDARY_NE_QUAD_XY: 703144.61500 5375309.17700
SECONDARY_SE_QUAD_XY: 703394.38500 5368362.96200
SECONDARY_SW_QUAD_XY: 698772.19300 5368198.72900
RMSE_XY: 2.00000
IMAGE_SOURCE: BLACK AND WHITE FILM
SOURCE_IMAGE_ID: NAPP 2662 090
SOURCE_IMAGE_DATE: 1991 8 30
SOURCE_DEM_DATE: 1994 10 13
AGENCY: WESTERN MAPPING CENTER (WMC)
PRODUCER: Science Applications International
PRODUCTION_SYSTEM: GIS/MAGIC
COMPRESSION: UNDEFINED
STANDARD_VERSION: 1996 12
METADATA_DATE: 1997 7 16
DATA_FILE_SIZE: 42774340
BYTE_COUNT: 5540
