FILENAME: O4811438.NWS.48313.tif
QUADRANGLE_NAME: WHITEFISH
QUADRANT: NW
WEST_LONGITUDE: -114 22 30.00000
EAST_LONGITUDE: -114 18 45.00000
NORTH_LATITUDE: 48 30 0.00000
SOUTH_LATITUDE: 48 26 15.00000
PRODUCTION_DATE: 1995 5 2
RASTER_ORDER: LEFT_RIGHT/TOP_BOTTOM
BAND_ORGANIZATION: SINGLE FILE
BAND_CONTENT: BLACK&WHITE
BAND_CONTENT: UNDEFINED
BAND_CONTENT: UNDEFINED
BITS_PER_PIXEL: 8
SAMPLES_AND_LINES: 5534 7716
HORIZONTAL_DATUM: NAD83
HORIZONTAL_COORDINATE_SYSTEM: UTM
COORDINATE_ZONE: 11
HORIZONTAL_UNITS: METERS
HORIZONTAL_RESOLUTION: 1.00000
SECONDARY_HORIZONTAL_DATUM: NAD27
XY_ORIGIN: 693533.00000 5375664.00000
SECONDARY_XY_ORIGIN: 693610.54400 5375451.37900
NATION: US
STATE: MT
NW_QUAD_CORNER_XY: 693905.40500 5375203.44500
NE_QUAD_CORNER_XY: 698521.79500 5375363.85000
SE_QUAD_CORNERY_XY: 698765.88100 5368417.58300
SW_QUAD_CORNER_XY: 694143.80800 5368257.13500
SECONDARY_NW_QUAD_XY: 693911.57100 5374984.57800
SECONDARY_NE_QUAD_XY: 698528.10700 5375144.98800
SECONDARY_SE_QUAD_XY: 698772.19300 5368198.72900
SECONDARY_SW_QUAD_XY: 694149.97400 5368038.27700
RMSE_XY: 3.30000
IMAGE_SOURCE: BLACK AND WHITE FILM
SOURCE_IMAGE_ID: NAPP 2640 216
SOURCE_IMAGE_DATE: 1990 7 1
SOURCE_IMAGE_ID: NAPP 2640 2640
SOURCE_IMAGE_DATE: 1990 7 1
SOURCE_IMAGE_ID: NAPP 2640 217
SOURCE_IMAGE_DATE: 1990 7 1
SOURCE_DEM_DATE: 1995 5 2
AGENCY: WESTERN MAPPING CENTER (WMC)
PRODUCER: Science Applications International
PRODUCTION_SYSTEM: GIS/MAGIC
COMPRESSION: UNDEFINED
STANDARD_VERSION: 1996 12
METADATA_DATE: 1997 7 25
DATA_FILE_SIZE: 42705878
BYTE_COUNT: 5534
