FILENAME: O4811436.NWS.48633.tif
QUADRANGLE_NAME: TALLY LAKE
QUADRANT: NW
WEST_LONGITUDE: -114 37 30.00000
EAST_LONGITUDE: -114 33 45.00000
NORTH_LATITUDE: 48 30 0.00000
SOUTH_LATITUDE: 48 26 15.00000
PRODUCTION_DATE: 1994 10 13
RASTER_ORDER: LEFT_RIGHT/TOP_BOTTOM
BAND_ORGANIZATION: SINGLE FILE
BAND_CONTENT: BLACK&WHITE
BAND_CONTENT: UNDEFINED
BAND_CONTENT: UNDEFINED
BITS_PER_PIXEL: 8
SAMPLES_AND_LINES: 5513 7701
HORIZONTAL_DATUM: NAD83
HORIZONTAL_COORDINATE_SYSTEM: UTM
COORDINATE_ZONE: 11
HORIZONTAL_UNITS: METERS
HORIZONTAL_RESOLUTION: 1.00000
SECONDARY_HORIZONTAL_DATUM: NAD27
XY_ORIGIN: 675066.00000 5375045.00000
SECONDARY_XY_ORIGIN: 675143.55300 5374832.28700
NATION: US
STATE: MT
NW_QUAD_CORNER_XY: 675439.57300 5374599.60700
NE_QUAD_CORNER_XY: 680056.07100 5374744.90000
SE_QUAD_CORNERY_XY: 680277.42800 5367798.47000
SW_QUAD_CORNER_XY: 675655.24900 5367653.13900
SECONDARY_NW_QUAD_XY: 675445.15100 5374380.72200
SECONDARY_NE_QUAD_XY: 680061.79600 5374526.01900
SECONDARY_SE_QUAD_XY: 680283.15300 5367579.59700
SECONDARY_SW_QUAD_XY: 675660.82700 5367434.26100
RMSE_XY: 6.00000
IMAGE_SOURCE: BLACK AND WHITE FILM
SOURCE_IMAGE_ID: NAPP 2640 059
SOURCE_IMAGE_DATE: 1990 7 1
SOURCE_DEM_DATE: 1994 10 13
AGENCY: WESTERN MAPPING CENTER (WMC)
PRODUCER: Science Applications International
PRODUCTION_SYSTEM: GIS/MAGIC
COMPRESSION: UNDEFINED
STANDARD_VERSION: 1996 12
METADATA_DATE: 1997 7 16
DATA_FILE_SIZE: 42461126
BYTE_COUNT: 5513
