FILENAME: O4811433.SES.49158.tif
QUADRANGLE_NAME: BOWEN LAKE
QUADRANT: SE
WEST_LONGITUDE: -114 56 15.00000
EAST_LONGITUDE: -114 52 30.00000
NORTH_LATITUDE: 48 26 15.00000
SOUTH_LATITUDE: 48 22 30.00000
PRODUCTION_DATE: 1994 10 13
RASTER_ORDER: LEFT_RIGHT/TOP_BOTTOM
BAND_ORGANIZATION: SINGLE FILE
BAND_CONTENT: BLACK&WHITE
BAND_CONTENT: UNDEFINED
BAND_CONTENT: UNDEFINED
BITS_PER_PIXEL: 8
SAMPLES_AND_LINES: 5491 7682
HORIZONTAL_DATUM: NAD83
HORIZONTAL_COORDINATE_SYSTEM: UTM
COORDINATE_ZONE: 11
HORIZONTAL_UNITS: METERS
HORIZONTAL_RESOLUTION: 1.00000
SECONDARY_HORIZONTAL_DATUM: NAD27
XY_ORIGIN: 652170.00000 5367410.00000
SECONDARY_XY_ORIGIN: 652247.58600 5367197.38600
NATION: US
STATE: MT
NW_QUAD_CORNER_XY: 652543.99300 5366983.15400
NE_QUAD_CORNER_XY: 657166.29000 5367109.59600
SE_QUAD_CORNERY_XY: 657359.05600 5360163.04900
SW_QUAD_CORNER_XY: 652731.08500 5360036.57500
SECONDARY_NW_QUAD_XY: 652548.83700 5366764.25500
SECONDARY_NE_QUAD_XY: 657171.28100 5366890.70100
SECONDARY_SE_QUAD_XY: 657364.04700 5359944.16400
SECONDARY_SW_QUAD_XY: 652735.92900 5359817.68600
RMSE_XY: 1.60000
IMAGE_SOURCE: BLACK AND WHITE FILM
SOURCE_IMAGE_ID: NAPP 2644 099
SOURCE_IMAGE_DATE: 1990 8 6
SOURCE_DEM_DATE: 1994 10 13
AGENCY: WESTERN MAPPING CENTER (WMC)
PRODUCER: Science Applications International
PRODUCTION_SYSTEM: GIS/MAGIC
COMPRESSION: UNDEFINED
STANDARD_VERSION: 1996 12
METADATA_DATE: 1997 7 27
DATA_FILE_SIZE: 42187353
BYTE_COUNT: 5491
