FILENAME: O4811433.SWS.49159.tif
QUADRANGLE_NAME: BOWEN LAKE
QUADRANT: SW
WEST_LONGITUDE: -115 0 0.00000
EAST_LONGITUDE: -114 56 15.00000
NORTH_LATITUDE: 48 26 15.00000
SOUTH_LATITUDE: 48 22 30.00000
PRODUCTION_DATE: 1994 10 13
RASTER_ORDER: LEFT_RIGHT/TOP_BOTTOM
BAND_ORGANIZATION: SINGLE FILE
BAND_CONTENT: BLACK&WHITE
BAND_CONTENT: UNDEFINED
BAND_CONTENT: UNDEFINED
BITS_PER_PIXEL: 8
SAMPLES_AND_LINES: 5486 7679
HORIZONTAL_DATUM: NAD83
HORIZONTAL_COORDINATE_SYSTEM: UTM
COORDINATE_ZONE: 11
HORIZONTAL_UNITS: METERS
HORIZONTAL_RESOLUTION: 1.00000
SECONDARY_HORIZONTAL_DATUM: NAD27
XY_ORIGIN: 647547.00000 5367284.00000
SECONDARY_XY_ORIGIN: 647624.60100 5367071.40700
NATION: US
STATE: MT
NW_QUAD_CORNER_XY: 647921.67400 5366860.48900
NE_QUAD_CORNER_XY: 652543.99300 5366983.15400
SE_QUAD_CORNERY_XY: 652731.08500 5360036.57500
SW_QUAD_CORNER_XY: 648103.09300 5359913.87800
SECONDARY_NW_QUAD_XY: 647926.37100 5366641.58700
SECONDARY_NE_QUAD_XY: 652548.83700 5366764.25500
SECONDARY_SE_QUAD_XY: 652735.92900 5359817.68600
SECONDARY_SW_QUAD_XY: 648107.79000 5359694.98500
RMSE_XY: 1.30000
IMAGE_SOURCE: BLACK AND WHITE FILM
SOURCE_IMAGE_ID: NAPP 2642 046
SOURCE_IMAGE_DATE: 1990 7 17
SOURCE_DEM_DATE: 1994 10 13
AGENCY: WESTERN MAPPING CENTER (WMC)
PRODUCER: Science Applications International
PRODUCTION_SYSTEM: GIS/MAGIC
COMPRESSION: UNDEFINED
STANDARD_VERSION: 1996 12
METADATA_DATE: 1997 7 27
DATA_FILE_SIZE: 42132480
BYTE_COUNT: 5486
