FILENAME: O4811431.NES.48184.tif
QUADRANGLE_NAME: HUCKLEBERRY MOUNTAIN
QUADRANT: NE
WEST_LONGITUDE: -114 11 15.00000
EAST_LONGITUDE: -114 7 30.00000
NORTH_LATITUDE: 48 37 30.00000
SOUTH_LATITUDE: 48 33 45.00000
PRODUCTION_DATE: 1994 10 13
RASTER_ORDER: LEFT_RIGHT/TOP_BOTTOM
BAND_ORGANIZATION: SINGLE FILE
BAND_CONTENT: BLACK&WHITE
BAND_CONTENT: UNDEFINED
BAND_CONTENT: UNDEFINED
BITS_PER_PIXEL: 8
SAMPLES_AND_LINES: 5541 7727
HORIZONTAL_DATUM: NAD83
HORIZONTAL_COORDINATE_SYSTEM: UTM
COORDINATE_ZONE: 11
HORIZONTAL_UNITS: METERS
HORIZONTAL_RESOLUTION: 1.00000
SECONDARY_HORIZONTAL_DATUM: NAD27
XY_ORIGIN: 706870.00000 5390061.00000
SECONDARY_XY_ORIGIN: 706947.48200 5389848.21800
NATION: US
STATE: MT
NW_QUAD_CORNER_XY: 707242.83300 5389588.52700
NE_QUAD_CORNER_XY: 711847.74800 5389760.17600
SE_QUAD_CORNERY_XY: 712109.39500 5382813.92900
SW_QUAD_CORNER_XY: 707498.78400 5382642.23300
SECONDARY_NW_QUAD_XY: 707249.44000 5389369.66200
SECONDARY_NE_QUAD_XY: 711854.50200 5389541.31700
SECONDARY_SE_QUAD_XY: 712116.14900 5382595.07600
SECONDARY_SW_QUAD_XY: 707505.39100 5382423.37400
RMSE_XY: 3.00000
IMAGE_SOURCE: BLACK AND WHITE FILM
SOURCE_IMAGE_ID: NAPP 2662 052
SOURCE_IMAGE_DATE: 1991 8 30
SOURCE_DEM_DATE: 1994 10 13
AGENCY: WESTERN MAPPING CENTER (WMC)
PRODUCER: Science Applications International
PRODUCTION_SYSTEM: GIS/MAGIC
COMPRESSION: UNDEFINED
STANDARD_VERSION: 1996 12
METADATA_DATE: 1997 7 27
DATA_FILE_SIZE: 42820848
BYTE_COUNT: 5541
