FILENAME: O4811431.NWS.48185.tif
QUADRANGLE_NAME: HUCKLEBERRY MOUNTAIN
QUADRANT: NW
WEST_LONGITUDE: -114 15 0.00000
EAST_LONGITUDE: -114 11 15.00000
NORTH_LATITUDE: 48 37 30.00000
SOUTH_LATITUDE: 48 33 45.00000
PRODUCTION_DATE: 1994 10 13
RASTER_ORDER: LEFT_RIGHT/TOP_BOTTOM
BAND_ORGANIZATION: SINGLE FILE
BAND_CONTENT: BLACK&WHITE
BAND_CONTENT: UNDEFINED
BAND_CONTENT: UNDEFINED
BITS_PER_PIXEL: 8
SAMPLES_AND_LINES: 5535 7723
HORIZONTAL_DATUM: NAD83
HORIZONTAL_COORDINATE_SYSTEM: UTM
COORDINATE_ZONE: 11
HORIZONTAL_UNITS: METERS
HORIZONTAL_RESOLUTION: 1.00000
SECONDARY_HORIZONTAL_DATUM: NAD27
XY_ORIGIN: 702265.00000 5389889.00000
SECONDARY_XY_ORIGIN: 702342.53900 5389676.19600
NATION: US
STATE: MT
NW_QUAD_CORNER_XY: 702637.88600 5389420.65600
NE_QUAD_CORNER_XY: 707242.83300 5389588.52700
SE_QUAD_CORNERY_XY: 707498.78400 5382642.23300
SW_QUAD_CORNER_XY: 702888.14200 5382474.31500
SECONDARY_NW_QUAD_XY: 702644.34600 5389201.78500
SECONDARY_NE_QUAD_XY: 707249.44000 5389369.66200
SECONDARY_SE_QUAD_XY: 707505.39100 5382423.37400
SECONDARY_SW_QUAD_XY: 702894.60200 5382255.45100
RMSE_XY: 3.10000
IMAGE_SOURCE: BLACK AND WHITE FILM
SOURCE_IMAGE_ID: NAPP 2662 067
SOURCE_IMAGE_DATE: 1991 8 30
SOURCE_DEM_DATE: 1994 10 13
AGENCY: WESTERN MAPPING CENTER (WMC)
PRODUCER: Science Applications International
PRODUCTION_SYSTEM: GIS/MAGIC
COMPRESSION: UNDEFINED
STANDARD_VERSION: 1996 12
METADATA_DATE: 1997 7 27
DATA_FILE_SIZE: 42752340
BYTE_COUNT: 5535
