FILENAME: O4811431.SES.48186.tif
QUADRANGLE_NAME: HUCKLEBERRY MOUNTAIN
QUADRANT: SE
WEST_LONGITUDE: -114 11 15.00000
EAST_LONGITUDE: -114 7 30.00000
NORTH_LATITUDE: 48 33 45.00000
SOUTH_LATITUDE: 48 30 0.00000
PRODUCTION_DATE: 1994 10 13
RASTER_ORDER: LEFT_RIGHT/TOP_BOTTOM
BAND_ORGANIZATION: SINGLE FILE
BAND_CONTENT: BLACK&WHITE
BAND_CONTENT: UNDEFINED
BAND_CONTENT: UNDEFINED
BITS_PER_PIXEL: 8
SAMPLES_AND_LINES: 5546 7727
HORIZONTAL_DATUM: NAD83
HORIZONTAL_COORDINATE_SYSTEM: UTM
COORDINATE_ZONE: 11
HORIZONTAL_UNITS: METERS
HORIZONTAL_RESOLUTION: 1.00000
SECONDARY_HORIZONTAL_DATUM: NAD27
XY_ORIGIN: 707126.00000 5383114.00000
SECONDARY_XY_ORIGIN: 707203.46700 5382901.35100
NATION: US
STATE: MT
NW_QUAD_CORNER_XY: 707498.78400 5382642.23300
NE_QUAD_CORNER_XY: 712109.39500 5382813.92900
SE_QUAD_CORNERY_XY: 712370.78800 5375867.73800
SW_QUAD_CORNER_XY: 707754.48700 5375695.99600
SECONDARY_NW_QUAD_XY: 707505.39100 5382423.37400
SECONDARY_NE_QUAD_XY: 712116.14900 5382595.07600
SECONDARY_SE_QUAD_XY: 712377.54100 5375648.89300
SECONDARY_SW_QUAD_XY: 707761.09300 5375477.14500
RMSE_XY: 3.90000
IMAGE_SOURCE: BLACK AND WHITE FILM
SOURCE_IMAGE_ID: NAPP 2662 054
SOURCE_IMAGE_DATE: 1991 8 30
SOURCE_DEM_DATE: 1994 10 13
AGENCY: WESTERN MAPPING CENTER (WMC)
PRODUCER: Science Applications International
PRODUCTION_SYSTEM: GIS/MAGIC
COMPRESSION: UNDEFINED
STANDARD_VERSION: 1996 12
METADATA_DATE: 1997 7 27
DATA_FILE_SIZE: 42859488
BYTE_COUNT: 5546
