FILENAME: O4811430.NES.48308.tif
QUADRANGLE_NAME: SKOOKOLEEL CREEK
QUADRANT: NE
WEST_LONGITUDE: -114 18 45.00000
EAST_LONGITUDE: -114 15 0.00000
NORTH_LATITUDE: 48 37 30.00000
SOUTH_LATITUDE: 48 33 45.00000
PRODUCTION_DATE: 1994 10 13
RASTER_ORDER: LEFT_RIGHT/TOP_BOTTOM
BAND_ORGANIZATION: SINGLE FILE
BAND_CONTENT: BLACK&WHITE
BAND_CONTENT: UNDEFINED
BAND_CONTENT: UNDEFINED
BITS_PER_PIXEL: 8
SAMPLES_AND_LINES: 5530 7719
HORIZONTAL_DATUM: NAD83
HORIZONTAL_COORDINATE_SYSTEM: UTM
COORDINATE_ZONE: 11
HORIZONTAL_UNITS: METERS
HORIZONTAL_RESOLUTION: 1.00000
SECONDARY_HORIZONTAL_DATUM: NAD27
XY_ORIGIN: 697660.00000 5389721.00000
SECONDARY_XY_ORIGIN: 697737.55700 5389508.18000
NATION: US
STATE: MT
NW_QUAD_CORNER_XY: 698032.90900 5389256.56100
NE_QUAD_CORNER_XY: 702637.88600 5389420.65600
SE_QUAD_CORNERY_XY: 702888.14200 5382474.31500
SW_QUAD_CORNER_XY: 698277.47000 5382310.17600
SECONDARY_NW_QUAD_XY: 698039.22200 5389037.68500
SECONDARY_NE_QUAD_XY: 702644.34600 5389201.78500
SECONDARY_SE_QUAD_XY: 702894.60200 5382255.45100
SECONDARY_SW_QUAD_XY: 698283.78300 5382091.30700
RMSE_XY: 4.30000
IMAGE_SOURCE: BLACK AND WHITE FILM
SOURCE_IMAGE_ID: NAPP 2662 086
SOURCE_IMAGE_DATE: 1991 8 30
SOURCE_DEM_DATE: 1994 10 13
AGENCY: WESTERN MAPPING CENTER (WMC)
PRODUCER: Science Applications International
PRODUCTION_SYSTEM: GIS/MAGIC
COMPRESSION: UNDEFINED
STANDARD_VERSION: 1996 12
METADATA_DATE: 1997 7 15
DATA_FILE_SIZE: 42691600
BYTE_COUNT: 5530
