FILENAME: O4811430.NWS.48309.tif
QUADRANGLE_NAME: SKOOKOLEEL CREEK
QUADRANT: NW
WEST_LONGITUDE: -114 22 30.00000
EAST_LONGITUDE: -114 18 45.00000
NORTH_LATITUDE: 48 37 30.00000
SOUTH_LATITUDE: 48 33 45.00000
PRODUCTION_DATE: 1994 10 13
RASTER_ORDER: LEFT_RIGHT/TOP_BOTTOM
BAND_ORGANIZATION: SINGLE FILE
BAND_CONTENT: BLACK&WHITE
BAND_CONTENT: UNDEFINED
BAND_CONTENT: UNDEFINED
BITS_PER_PIXEL: 8
SAMPLES_AND_LINES: 5524 7716
HORIZONTAL_DATUM: NAD83
HORIZONTAL_COORDINATE_SYSTEM: UTM
COORDINATE_ZONE: 11
HORIZONTAL_UNITS: METERS
HORIZONTAL_RESOLUTION: 1.00000
SECONDARY_HORIZONTAL_DATUM: NAD27
XY_ORIGIN: 693055.00000 5389557.00000
SECONDARY_XY_ORIGIN: 693132.58400 5389344.16100
NATION: US
STATE: MT
NW_QUAD_CORNER_XY: 693427.90200 5389096.24300
NE_QUAD_CORNER_XY: 698032.90900 5389256.56100
SE_QUAD_CORNERY_XY: 698277.47000 5382310.17600
SW_QUAD_CORNER_XY: 693666.76900 5382149.81400
SECONDARY_NW_QUAD_XY: 693434.06800 5388877.36200
SECONDARY_NE_QUAD_XY: 698039.22200 5389037.68500
SECONDARY_SE_QUAD_XY: 698283.78300 5382091.30700
SECONDARY_SW_QUAD_XY: 693672.93500 5381930.94000
RMSE_XY: 3.90000
IMAGE_SOURCE: BLACK AND WHITE FILM
SOURCE_IMAGE_ID: NAPP 2662 097
SOURCE_IMAGE_DATE: 1991 8 30
SOURCE_DEM_DATE: 1994 10 13
AGENCY: WESTERN MAPPING CENTER (WMC)
PRODUCER: Science Applications International
PRODUCTION_SYSTEM: GIS/MAGIC
COMPRESSION: UNDEFINED
STANDARD_VERSION: 1996 12
METADATA_DATE: 1997 7 15
DATA_FILE_SIZE: 42628708
BYTE_COUNT: 5524
