FILENAME: O4811429.NES.48448.tif
QUADRANGLE_NAME: WERNER PEAK
QUADRANT: NE
WEST_LONGITUDE: -114 26 15.00000
EAST_LONGITUDE: -114 22 30.00000
NORTH_LATITUDE: 48 37 30.00000
SOUTH_LATITUDE: 48 33 45.00000
PRODUCTION_DATE: 1994 10 13
RASTER_ORDER: LEFT_RIGHT/TOP_BOTTOM
BAND_ORGANIZATION: SINGLE FILE
BAND_CONTENT: BLACK&WHITE
BAND_CONTENT: UNDEFINED
BAND_CONTENT: UNDEFINED
BITS_PER_PIXEL: 8
SAMPLES_AND_LINES: 5518 7712
HORIZONTAL_DATUM: NAD83
HORIZONTAL_COORDINATE_SYSTEM: UTM
COORDINATE_ZONE: 11
HORIZONTAL_UNITS: METERS
HORIZONTAL_RESOLUTION: 1.00000
SECONDARY_HORIZONTAL_DATUM: NAD27
XY_ORIGIN: 688450.00000 5389397.00000
SECONDARY_XY_ORIGIN: 688527.61000 5389184.14100
NATION: US
STATE: MT
NW_QUAD_CORNER_XY: 688822.86600 5388939.70200
NE_QUAD_CORNER_XY: 693427.90200 5389096.24300
SE_QUAD_CORNERY_XY: 693666.76900 5382149.81400
SW_QUAD_CORNER_XY: 689056.04000 5381993.23000
SECONDARY_NW_QUAD_XY: 688828.88500 5388720.81600
SECONDARY_NE_QUAD_XY: 693434.06800 5388877.36200
SECONDARY_SE_QUAD_XY: 693672.93500 5381930.94000
SECONDARY_SW_QUAD_XY: 689062.05900 5381774.35100
RMSE_XY: 2.60000
IMAGE_SOURCE: BLACK AND WHITE FILM
SOURCE_IMAGE_ID: NAPP 2662 126
SOURCE_IMAGE_DATE: 1991 8 30
SOURCE_DEM_DATE: 1994 10 13
AGENCY: WESTERN MAPPING CENTER (WMC)
PRODUCER: Science Applications International
PRODUCTION_SYSTEM: GIS/MAGIC
COMPRESSION: UNDEFINED
STANDARD_VERSION: 1996 12
METADATA_DATE: 1997 7 25
DATA_FILE_SIZE: 42560334
BYTE_COUNT: 5518
