FILENAME: O4811428.NWS.48629.tif
QUADRANGLE_NAME: OLNEY
QUADRANT: NW
WEST_LONGITUDE: -114 37 30.00000
EAST_LONGITUDE: -114 33 45.00000
NORTH_LATITUDE: 48 37 30.00000
SOUTH_LATITUDE: 48 33 45.00000
PRODUCTION_DATE: 1995 5 2
RASTER_ORDER: LEFT_RIGHT/TOP_BOTTOM
BAND_ORGANIZATION: SINGLE FILE
BAND_CONTENT: BLACK&WHITE
BAND_CONTENT: UNDEFINED
BAND_CONTENT: UNDEFINED
BITS_PER_PIXEL: 8
SAMPLES_AND_LINES: 5502 7700
HORIZONTAL_DATUM: NAD83
HORIZONTAL_COORDINATE_SYSTEM: UTM
COORDINATE_ZONE: 11
HORIZONTAL_UNITS: METERS
HORIZONTAL_RESOLUTION: 1.00000
SECONDARY_HORIZONTAL_DATUM: NAD27
XY_ORIGIN: 674634.00000 5388938.00000
SECONDARY_XY_ORIGIN: 674711.63300 5388725.11400
NATION: US
STATE: MT
NW_QUAD_CORNER_XY: 675007.59100 5388492.73300
NE_QUAD_CORNER_XY: 679612.71000 5388637.94700
SE_QUAD_CORNERY_XY: 679834.49800 5381691.39300
SW_QUAD_CORNER_XY: 675223.68700 5381546.13900
SECONDARY_NW_QUAD_XY: 675013.17000 5388273.83300
SECONDARY_NE_QUAD_XY: 679618.43500 5388419.05200
SECONDARY_SE_QUAD_XY: 679840.22300 5381472.50400
SECONDARY_SW_QUAD_XY: 675229.26600 5381327.24600
RMSE_XY: 2.50000
IMAGE_SOURCE: BLACK AND WHITE FILM
SOURCE_IMAGE_ID: NAPP 2640 63
SOURCE_IMAGE_DATE: 1990 7 1
SOURCE_IMAGE_ID: NAPP 2640 2640
SOURCE_IMAGE_DATE: 1990 7 1
SOURCE_IMAGE_ID: NAPP 2640 64
SOURCE_IMAGE_DATE: 1990 7 1
SOURCE_DEM_DATE: 1995 5 2
AGENCY: WESTERN MAPPING CENTER (WMC)
PRODUCER: Science Applications International
PRODUCTION_SYSTEM: GIS/MAGIC
COMPRESSION: UNDEFINED
STANDARD_VERSION: 1996 12
METADATA_DATE: 1997 7 25
DATA_FILE_SIZE: 42370902
BYTE_COUNT: 5502
